Workbook

Sheet ldap_users_export
A1: objectClass | B1: cn | C1: uid | D1: uidNumber | E1: gidNumber | F1: homeDirectory | G1: sn | H1: displayName | I1: memberOf | J1: mail | K1: telephoneNumber | L1: check | N1: employeeNumber
A2: top,posixAccount,shadowAccount,person,organizationalPerson,inetOrgPerson,apple-user,sambaSamAccount,sambaIdmapEntry,extensibleObject | B2: 井尾 絢香 | C2: 井尾 絢香 | D2: 1000024 | E2: 1000001 | F2: /home/井尾 絢香 | G2: 井尾 絢香 | H2: 井尾 絢香 | I2: cn=ネクストイノベーション,cn=groups,dc=ldap,dc=next-hd,dc=co,dc=jp | J2: ayaka.io@nextinnovation.co.jp | K2: 08041295654 | L2: =_xlfn.XLOOKUP(K2,'携帯電話管理_2025_06_01 09_52_24'!A:A,'携帯電話管理_2025_06_01 09_52_24'!D:D,"",0) -> 岸上 明子 | M2: =EXACT(B2,L2) -> FALSE | N2: next17475
A3: top,posixAccount,shadowAccount,person,organizationalPerson,inetOrgPerson,apple-user,sambaSamAccount,sambaIdmapEntry,extensibleObject | B3: 内田 早紀 | C3: 内田 早紀 | D3: 1000035 | E3: 1000001 | F3: /home/内田 早紀 | G3: 内田 早紀 | H3: 内田 早紀 | I3: cn=ネクストイノベーション,cn=groups,dc=ldap,dc=next-hd,dc=co,dc=jp | J3: s.uchida@nextinnovation.co.jp | K3: 09098536055 | L3: =_xlfn.XLOOKUP(K3,'携帯電話管理_2025_06_01 09_52_24'!A:A,'携帯電話管理_2025_06_01 09_52_24'!D:D,"",0) -> 財部 恵利 | M3: =EXACT(B3,L3) -> FALSE | N3: next15347
A4: top,posixAccount,shadowAccount,person,organizationalPerson,inetOrgPerson,apple-user,sambaSamAccount,sambaIdmapEntry,extensibleObject | B4: 金田 愛生 | C4: 金田 愛生 | D4: 1000054 | E4: 1000001 | F4: /home/金田 愛生 | G4: 金田 愛生 | H4: 金田 愛生 | I4: cn=ネクストイノベーション,cn=groups,dc=ldap,dc=next-hd,dc=co,dc=jp | J4: a.kaneda@next-hd.co.jp | K4: 08040789238 | L4: =_xlfn.XLOOKUP(K4,'携帯電話管理_2025_06_01 09_52_24'!A:A,'携帯電話管理_2025_06_01 09_52_24'!D:D,"",0) -> 一笠 旭輝 | M4: =EXACT(B4,L4) -> FALSE | N4: next19570
A5: top,posixAccount,shadowAccount,person,organizationalPerson,inetOrgPerson,apple-user,sambaSamAccount,sambaIdmapEntry,extensibleObject | B5: 近藤 重美 | C5: 近藤 重美 | D5: 1000070 | E5: 1000001 | F5: /home/近藤 重美 | G5: 近藤 重美 | H5: 近藤 重美 | I5: cn=ネクストイノベーション,cn=groups,dc=ldap,dc=next-hd,dc=co,dc=jp | J5: s.kondo@next-hd.co.jp | K5: 08041299550 | L5: =_xlfn.XLOOKUP(K5,'携帯電話管理_2025_06_01 09_52_24'!A:A,'携帯電話管理_2025_06_01 09_52_24'!D:D,"",0) -> 田中 結菜 | M5: =EXACT(B5,L5) -> FALSE | N5: next18564
A6: top,posixAccount,shadowAccount,person,organizationalPerson,inetOrgPerson,apple-user,sambaSamAccount,sambaIdmapEntry,extensibleObject | B6: 佐藤 淳 | C6: 佐藤 淳 | D6: 1000076 | E6: 1000001 | F6: /home/佐藤 淳 | G6: 佐藤 淳 | H6: 佐藤 淳 | I6: cn=ネクストイノベーション,cn=groups,dc=ldap,dc=next-hd,dc=co,dc=jp | J6: atsushi.sato@next-hd.co.jp | K6: 08075678682 | L6: =_xlfn.XLOOKUP(K6,'携帯電話管理_2025_06_01 09_52_24'!A:A,'携帯電話管理_2025_06_01 09_52_24'!D:D,"",0) -> 小菅 一憲 | M6: =EXACT(B6,L6) -> FALSE | N6: next19596
A7: top,posixAccount,shadowAccount,person,organizationalPerson,inetOrgPerson,apple-user,sambaSamAccount,sambaIdmapEntry,extensibleObject | B7: 篠原 薫平 | C7: 篠原 薫平 | D7: 1000081 | E7: 1000001 | F7: /home/篠原 薫平 | G7: 篠原 薫平 | H7: 篠原 薫平 | I7: cn=ネクストイノベーション,cn=groups,dc=ldap,dc=next-hd,dc=co,dc=jp | J7: k.shinohara@nextinnovation.co.jp | K7: 08041299515 | L7: =_xlfn.XLOOKUP(K7,'携帯電話管理_2025_06_01 09_52_24'!A:A,'携帯電話管理_2025_06_01 09_52_24'!D:D,"",0) -> 千田 音緒 | M7: =EXACT(B7,L7) -> FALSE | N7: next17470
A8: top,posixAccount,shadowAccount,person,organizationalPerson,inetOrgPerson,apple-user,sambaSamAccount,sambaIdmapEntry,extensibleObject | B8: 菅原 千夏 | C8: 菅原 千夏 | D8: 1000085 | E8: 1000001 | F8: /home/菅原 千夏 | G8: 菅原 千夏 | H8: 菅原 千夏 | I8: cn=ネクストイノベーション,cn=groups,dc=ldap,dc=next-hd,dc=co,dc=jp | J8: c.sugawara@nextinnovation.co.jp | K8: 08036076957 | L8: =_xlfn.XLOOKUP(K8,'携帯電話管理_2025_06_01 09_52_24'!A:A,'携帯電話管理_2025_06_01 09_52_24'!D:D,"",0) -> 佐藤 萌 | M8: =EXACT(B8,L8) -> FALSE | N8: next14296
A9: top,posixAccount,shadowAccount,person,organizationalPerson,inetOrgPerson,apple-user,sambaSamAccount,sambaIdmapEntry,extensibleObject | B9: 戸井田 勇弥 | C9: 戸井田 勇弥 | D9: 1000110 | E9: 1000001 | F9: /home/戸井田 勇弥 | G9: 戸井田 勇弥 | H9: 戸井田 勇弥 | I9: cn=ネクストイノベーション,cn=groups,dc=ldap,dc=next-hd,dc=co,dc=jp | J9: y.toida@nextinnovation.co.jp | K9: 09098535380 | L9: =_xlfn.XLOOKUP(K9,'携帯電話管理_2025_06_01 09_52_24'!A:A,'携帯電話管理_2025_06_01 09_52_24'!D:D,"",0) -> 鈴木 梨紗都 | M9: =EXACT(B9,L9) -> FALSE | N9: next15345
A10: top,posixAccount,shadowAccount,person,organizationalPerson,inetOrgPerson,apple-user,sambaSamAccount,sambaIdmapEntry,extensibleObject | B10: 割り当て未定 | C10: 割り当て未定 | D10: 1000115 | E10: 1000001 | F10: /home/中尾 文哉 | G10: 中尾 文哉 | H10: 中尾 文哉 | I10: cn=ネクストイノベーション,cn=groups,dc=ldap,dc=next-hd,dc=co,dc=jp | K10: 08040790074 | L10: =_xlfn.XLOOKUP(K10,'携帯電話管理_2025_06_01 09_52_24'!A:A,'携帯電話管理_2025_06_01 09_52_24'!D:D,"",0) -> 八木 重樹 | M10: =EXACT(B10,L10) -> FALSE | N10: next19574
A11: top,posixAccount,shadowAccount,person,organizationalPerson,inetOrgPerson,apple-user,sambaSamAccount,sambaIdmapEntry,extensibleObject | B11: 藤澤 康博 | C11: 藤澤 康博 | D11: 1000138 | E11: 1000001 | F11: /home/藤澤 康博 | G11: 藤澤 康博 | H11: 藤澤 康博 | I11: cn=ネクストイノベーション,cn=groups,dc=ldap,dc=next-hd,dc=co,dc=jp | J11: y.fujisawa@next-hd.co.jp | K11: 07015397892 | L11: =_xlfn.XLOOKUP(K11,'携帯電話管理_2025_06_01 09_52_24'!A:A,'携帯電話管理_2025_06_01 09_52_24'!D:D,"",0) -> 堤 正行 | M11: =EXACT(B11,L11) -> FALSE | N11: next19613
A12: top,posixAccount,shadowAccount,person,organizationalPerson,inetOrgPerson,apple-user,sambaSamAccount,sambaIdmapEntry,extensibleObject | B12: 松下 智昭 | C12: 松下 智昭 | D12: 1000148 | E12: 1000001 | F12: /home/松下 智昭 | G12: 松下 智昭 | H12: 松下 智昭 | I12: cn=ネクストイノベーション,cn=groups,dc=ldap,dc=next-hd,dc=co,dc=jp | J12: t.matsushita@actie.jp | K12: 08099927256 | L12: =_xlfn.XLOOKUP(K12,'携帯電話管理_2025_06_01 09_52_24'!A:A,'携帯電話管理_2025_06_01 09_52_24'!D:D,"",0) -> 本田 良輔 | M12: =EXACT(B12,L12) -> FALSE | N12: akco5244
A13: top,posixAccount,shadowAccount,person,organizationalPerson,inetOrgPerson,apple-user,sambaSamAccount,sambaIdmapEntry,extensibleObject | B13: 森山 直 | C13: 森山 直 | D13: 1000167 | E13: 1000001 | F13: /home/森山 直 | G13: 森山 直 | H13: 森山 直 | I13: cn=ネクストイノベーション,cn=groups,dc=ldap,dc=next-hd,dc=co,dc=jp | J13: n.moriyama@cleverlyhome.jp | K13: 08030143920 | L13: =_xlfn.XLOOKUP(K13,'携帯電話管理_2025_06_01 09_52_24'!A:A,'携帯電話管理_2025_06_01 09_52_24'!D:D,"",0) -> 比嘉 朱里 | M13: =EXACT(B13,L13) -> FALSE | N13: clev01524
A14: top,posixAccount,shadowAccount,person,organizationalPerson,inetOrgPerson,apple-user,sambaSamAccount,sambaIdmapEntry,extensibleObject | B14: 山根 徳仁 | C14: 山根 徳仁 | D14: 1000175 | E14: 1000001 | F14: /home/山根 徳仁 | G14: 山根 徳仁 | H14: 山根 徳仁 | I14: cn=ネクストイノベーション,cn=groups,dc=ldap,dc=next-hd,dc=co,dc=jp | J14: n.yamane@nextinnovation.co.jp | K14: 08074206894 | L14: =_xlfn.XLOOKUP(K14,'携帯電話管理_2025_06_01 09_52_24'!A:A,'携帯電話管理_2025_06_01 09_52_24'!D:D,"",0) -> 宮原 冬羽 | M14: =EXACT(B14,L14) -> FALSE | N14: next16399
A15: top,posixAccount,shadowAccount,person,organizationalPerson,inetOrgPerson,apple-user,sambaSamAccount,sambaIdmapEntry,extensibleObject | B15: 下田 宇一 | C15: 下田 宇一 | D15: 1000202 | E15: 1000001 | F15: /home/下田 宇一 | G15: 下田 宇一 | H15: 下田 宇一 | I15: cn=君津住宅,cn=groups,dc=ldap,dc=next-hd,dc=co,dc=jp | J15: u.shimoda@kimijyu.co.jp | K15: 09070054081 | L15: =_xlfn.XLOOKUP(K15,'携帯電話管理_2025_06_01 09_52_24'!A:A,'携帯電話管理_2025_06_01 09_52_24'!D:D,"",0) -> 鈴木 亜菫 | M15: =EXACT(B15,L15) -> FALSE | N15: kmjco01497
B16: 前田 泰寛 | C16: 前田 泰寛 | G16: 前田 泰寛 | K16: 08073636855
B17: 西村 仁 | C17: 西村 仁 | G17: 西村 仁 | K17: 08041299579
B18: 小川 晃司 | C18: 小川 晃司 | G18: 小川 晃司 | K18: 08096514788
B19: 髙田 祐一 | C19: 髙田 祐一 | G19: 髙田 祐一 | K19: 08041295741
B20: 伊藤 りな | C20: 伊藤 りな | G20: 伊藤 りな | K20: 08041283557
B21: 奥 伸浩 | C21: 奥 伸浩 | G21: 奥 伸浩 | K21: 08041687958
B22: 金田 樹 | C22: 金田 樹 | G22: 金田 樹 | K22: 08036030861
B23: 安藤 哲也 | C23: 安藤 哲也 | G23: 安藤 哲也 | K23: 08034067049
B24: 清水 芳野香 | C24: 清水 芳野香 | G24: 清水 芳野香 | K24: 07032498133
B25: 北村 千穂 | C25: 北村 千穂 | G25: 北村 千穂 | K25: 08036077147
B26: 中村 敏文 | C26: 中村 敏文 | G26: 中村 敏文 | K26: 08036030543
B27: 堀田 信弘 | C27: 堀田 信弘 | G27: 堀田 信弘 | K27: 08036030493
... B33: 林 菜月 | C33: 林 菜月 | G33: 林 菜月 | K33: 07015375856

Sheet Sheet1
A1: top,posixAccount,shadowAccount,person,organizationalPerson,inetOrgPerson,apple-user,sambaSamAccount,sambaIdmapEntry,extensibleObject | B1: なないろケアプランセンター | C1: なないろケアプランセンター | D1: 営業所 | E1: 1000229 | F1: 1000001 | G1: /home/なないろケアプランセンター | H1: なないろケアプランセンター | I1: なないろケアプランセンター | J1: cn=ネクストグループ,cn=groups,dc=ldap,dc=next-hd,dc=co,dc=jp | L1: 0426102774
A2: top,posixAccount,shadowAccount,person,organizationalPerson,inetOrgPerson,apple-user,sambaSamAccount,sambaIdmapEntry,extensibleObject | B2: 西東京建設代表番号 | C2: 西東京建設代表番号 | D2: 営業所 | E2: 1000230 | F2: 1000001 | G2: /home/西東京建設代表番号 | H2: 西東京建設代表番号 | I2: 西東京建設代表番号 | J2: cn=ネクストグループ,cn=groups,dc=ldap,dc=next-hd,dc=co,dc=jp | L2: 0425400505
A3: top,posixAccount,shadowAccount,person,organizationalPerson,inetOrgPerson,apple-user,sambaSamAccount,sambaIdmapEntry,extensibleObject | B3: ネクストイノベーション不動産 | C3: ネクストイノベーション不動産 | D3: 営業所 | E3: 1000231 | F3: 1000001 | G3: /home/ネクストイノベーション不動産 | H3: ネクストイノベーション不動産 | I3: ネクストイノベーション不動産 | J3: cn=ネクストグループ,cn=groups,dc=ldap,dc=next-hd,dc=co,dc=jp | L3: 0426102822
A4: top,posixAccount,shadowAccount,person,organizationalPerson,inetOrgPerson,apple-user,sambaSamAccount,sambaIdmapEntry,extensibleObject | B4: 西東京建設不動産 | C4: 西東京建設不動産 | D4: 営業所 | E4: 1000232 | F4: 1000001 | G4: /home/西東京建設不動産 | H4: 西東京建設不動産 | I4: 西東京建設不動産 | J4: cn=ネクストグループ,cn=groups,dc=ldap,dc=next-hd,dc=co,dc=jp | L4: 0426102700
A5: top,posixAccount,shadowAccount,person,organizationalPerson,inetOrgPerson,apple-user,sambaSamAccount,sambaIdmapEntry,extensibleObject | B5: 営業積算専用 | C5: 営業積算専用 | D5: 営業所 | E5: 1000233 | F5: 1000001 | G5: /home/営業積算専用 | H5: 営業積算専用 | I5: 営業積算専用 | J5: cn=ネクストグループ,cn=groups,dc=ldap,dc=next-hd,dc=co,dc=jp | L5: 05055301620
A6: top,posixAccount,shadowAccount,person,organizationalPerson,inetOrgPerson,apple-user,sambaSamAccount,sambaIdmapEntry,extensibleObject | B6: ネクストイノベーション代表 | C6: ネクストイノベーション代表 | D6: 営業所 | E6: 1000234 | F6: 1000001 | G6: /home/ネクストイノベーション代表 | H6: ネクストイノベーション代表 | I6: ネクストイノベーション代表 | J6: cn=ネクストグループ,cn=groups,dc=ldap,dc=next-hd,dc=co,dc=jp | L6: 0345895557
A7: top,posixAccount,shadowAccount,person,organizationalPerson,inetOrgPerson,apple-user,sambaSamAccount,sambaIdmapEntry,extensibleObject | B7: アクティエ東京代表 | C7: アクティエ東京代表 | D7: 営業所 | E7: 1000235 | F7: 1000001 | G7: /home/アクティエ東京代表 | H7: アクティエ東京代表 | I7: アクティエ東京代表 | J7: cn=ネクストグループ,cn=groups,dc=ldap,dc=next-hd,dc=co,dc=jp | L7: 0425959911
A8: top,posixAccount,shadowAccount,person,organizationalPerson,inetOrgPerson,apple-user,sambaSamAccount,sambaIdmapEntry,extensibleObject | B8: アクティブハウス八王子 | C8: アクティブハウス八王子 | D8: 営業所 | E8: 1000236 | F8: 1000001 | G8: /home/アクティブハウス八王子 | H8: アクティブハウス八王子 | I8: アクティブハウス八王子 | J8: cn=ネクストグループ,cn=groups,dc=ldap,dc=next-hd,dc=co,dc=jp | L8: 0426102802
A9: top,posixAccount,shadowAccount,person,organizationalPerson,inetOrgPerson,apple-user,sambaSamAccount,sambaIdmapEntry,extensibleObject | B9: ネクストハウス東京代表 | C9: ネクストハウス東京代表 | D9: 営業所 | E9: 1000237 | F9: 1000001 | G9: /home/ネクストハウス東京代表 | H9: ネクストハウス東京代表 | I9: ネクストハウス東京代表 | J9: cn=ネクストグループ,cn=groups,dc=ldap,dc=next-hd,dc=co,dc=jp | L9: 0420002701
A10: top,posixAccount,shadowAccount,person,organizationalPerson,inetOrgPerson,apple-user,sambaSamAccount,sambaIdmapEntry,extensibleObject | B10: ネクストイノベーション新宿不動産 | C10: ネクストイノベーション新宿不動産 | D10: 営業所 | E10: 1000238 | F10: 1000001 | G10: /home/ネクストイノベーション新宿不動産 | H10: ネクストイノベーション新宿不動産 | I10: ネクストイノベーション新宿不動産 | J10: cn=ネクストグループ,cn=groups,dc=ldap,dc=next-hd,dc=co,dc=jp | L10: 0345002272
A11: top,posixAccount,shadowAccount,person,organizationalPerson,inetOrgPerson,apple-user,sambaSamAccount,sambaIdmapEntry,extensibleObject | B11: 特建事業部 | C11: 特建事業部 | D11: 営業所 | E11: 1000239 | F11: 1000001 | G11: /home/特建事業部 | H11: 特建事業部 | I11: 特建事業部 | J11: cn=ネクストグループ,cn=groups,dc=ldap,dc=next-hd,dc=co,dc=jp | L11: 0355395558
A12: top,posixAccount,shadowAccount,person,organizationalPerson,inetOrgPerson,apple-user,sambaSamAccount,sambaIdmapEntry,extensibleObject | B12: アクティエ愛知代表 | C12: アクティエ愛知代表 | D12: 営業所 | E12: 1000240 | F12: 1000001 | G12: /home/アクティエ愛知代表 | H12: アクティエ愛知代表 | I12: アクティエ愛知代表 | J12: cn=ネクストグループ,cn=groups,dc=ldap,dc=next-hd,dc=co,dc=jp | L12: 0561762003
... A34: top,posixAccount,shadowAccount,person,organizationalPerson,inetOrgPerson,apple-user,sambaSamAccount,sambaIdmapEntry,extensibleObject | B34: イオンハウジング津田沼 | C34: イオンハウジング津田沼 | D34: 営業所 | E34: 1000262 | F34: 1000001 | G34: /home/イオンハウジング津田沼 | H34: イオンハウジング津田沼 | I34: イオンハウジング津田沼 | J34: cn=ネクストグループ,cn=groups,dc=ldap,dc=next-hd,dc=co,dc=jp | L34: 0474736700

Sheet 携帯電話管理_2025_06_01 09_52_24
A1: 電話番号 | B1: 状況 | D1: 使用者 | F1: 所属 | G1: 種類 | H1: メールアドレス | I1: ロック解除パス | J1: 管理パス | K1: 機種 | L1: 型番 | M1: IMEI | N1: MACアドレス(WIFI) | O1: シリアル番号
A2: 07012958361 | B2: 貸与 | C2: =_xlfn.XLOOKUP(A2,ldap_users_export!K:K,ldap_users_export!B:B,"",0) | D2: 髙田 栄司 | F2: 愛知-アフター課 | G2: au iPhone | K2: iPhone SE3(2022-06)
A3: 08037506471 | B3: 貸与 | C3: =_xlfn.XLOOKUP(A3,ldap_users_export!K:K,ldap_users_export!B:B,"",0) | D3: 髙須 友菜 | F3: 愛知-設計課 | G3: Softbank Android | K3: Android DIGNO BX2
A4: 07042152632 | B4: 貸与 | C4: =_xlfn.XLOOKUP(A4,ldap_users_export!K:K,ldap_users_export!B:B,"",0) | D4: 髙井 寧子 | F4: 東京-設計課 | G4: Y!Mobile | H4: y.takai@nextinnovation.co.jp | I4: 000000 | J4: Next07424# | K4: iPhone7 | L4: MNCF2J/A | O4: DX3C2M7EHG7Y
A5: 08037519061 | B5: 貸与 | C5: =_xlfn.XLOOKUP(A5,ldap_users_export!K:K,ldap_users_export!B:B,"",0) | D5: 齊木 怜香 | F5: 東京-IC課 | G5: Softbank Android | K5: Android DIGNO BX2
A6: 08037521521 | B6: 貸与 | C6: =_xlfn.XLOOKUP(A6,ldap_users_export!K:K,ldap_users_export!B:B,"",0) | D6: 齊藤 俊道 | F6: 愛知-設計課 | G6: Softbank Android | K6: Android DIGNO BX2
A7: 08048182613 | B7: 貸与 | C7: =_xlfn.XLOOKUP(A7,ldap_users_export!K:K,ldap_users_export!B:B,"",0) | D7: 稻留 卓矢 | F7: Graph熊本 | G7: Softbank iPhone | K7: iPhone SE3 64GB
A8: 08041299537 | B8: 貸与 | C8: =_xlfn.XLOOKUP(A8,ldap_users_export!K:K,ldap_users_export!B:B,"",0) | D8: 當銘 秋乃 | F8: 東京-マーケティング | G8: au iPhone | K8: iPhone SE3(2022-06)
A9: 08040791471 | B9: 貸与 | C9: =_xlfn.XLOOKUP(A9,ldap_users_export!K:K,ldap_users_export!B:B,"",0) | D9: 濱口 宏之 | F9: 東京-アクティエ横浜 | G9: Softbank iPhone | H9: h.hamaguchi@next-hd.co.jp | K9: iPhone SE Midnight 64GB | L9: MMYC3J/A | M9: 3.51191E+14 | O9: NFGF4QF96H
A10: 08032462108 | B10: 貸与 | C10: =_xlfn.XLOOKUP(A10,ldap_users_export!K:K,ldap_users_export!B:B,"",0) | D10: 渕野 倫弘 | F10: 東京設計課 | G10: Y!Mobile | H10: t.fuchino@next-hd.co.jp | I10: 000000 | K10: iPhoneSE2
A11: 07031931813 | B11: 貸与 | C11: =_xlfn.XLOOKUP(A11,ldap_users_export!K:K,ldap_users_export!B:B,"",0) | D11: 櫻井 悠貴 | F11: 愛知-アクティブハウスみよし | G11: au iPhone | K11: iPhone SE3(2022-06)
A12: 08040790025 | B12: 貸与 | C12: =_xlfn.XLOOKUP(A12,ldap_users_export!K:K,ldap_users_export!B:B,"",0) | D12: 鈴木 陽順 | F12: 東京-アクティブハウス八王子 | G12: Softbank iPhone | H12: h.suzuki@next-hd.co.jp | K12: iPhone SE Midnight 64GB | L12: MMYC3J/A | M12: 3.51191E+14 | O12: R5GWM2LWV2
A13: 08036077254 | B13: 貸与 | C13: =_xlfn.XLOOKUP(A13,ldap_users_export!K:K,ldap_users_export!B:B,"",0) | D13: 鈴木 直巳 | F13: 東京-特建事業部 | G13: Softbank iPhone | K13: iPhone SE3 64GB
A14: 07026895092 | B14: 貸与 | C14: =_xlfn.XLOOKUP(A14,ldap_users_export!K:K,ldap_users_export!B:B,"",0) | D14: 鈴木 正一 | F14: FIT | G14: Softbank Android | K14: Android DIGNO BX2
A15: 08037520482 | B15: 貸与 | C15: =_xlfn.XLOOKUP(A15,ldap_users_export!K:K,ldap_users_export!B:B,"",0) | D15: 鈴木 晴江 | F15: 広報ブランディング室 | G15: Softbank iPhone | K15: iPhone 14 128GB
A16: 08040790867 | B16: 貸与 | C16: =_xlfn.XLOOKUP(A16,ldap_users_export!K:K,ldap_users_export!B:B,"",0) | D16: 鈴木 孝征 | F16: 特建事業部 | G16: Softbank iPhone | H16: takayuki.suzuki@next-hd.co.jp | I16: 152535 | K16: iPhone SE Midnight 64GB | L16: MMYC3J/A | M16: 3.51191E+14 | O16: KR7FY3QY4Q
A17: 08036077259 | B17: 貸与 | C17: =_xlfn.XLOOKUP(A17,ldap_users_export!K:K,ldap_users_export!B:B,"",0) | D17: 林 努 | F17: 愛知-ネクストハウス長久手 | G17: Softbank iPhone | K17: iPhone SE3 64GB
A18: 08041687946 | B18: 貸与 | C18: =_xlfn.XLOOKUP(A18,ldap_users_export!K:K,ldap_users_export!B:B,"",0) | D18: 野中 美月 | F18: クレバリーホーム静岡 | G18: au iPhone | H18: m.nonaka@next-hd.co.jp | I18: 152535 | J18: NextHd0626# | K18: iPhone SE3(2022-06)
A19: 08036077249 | B19: 貸与 | C19: =_xlfn.XLOOKUP(A19,ldap_users_export!K:K,ldap_users_export!B:B,"",0) | D19: 門本 早代 | F19: 愛知-IC課 | G19: Softbank Android | K19: Android DIGNO BX2
A20: 08058296152 | B20: 貸与 | C20: =_xlfn.XLOOKUP(A20,ldap_users_export!K:K,ldap_users_export!B:B,"",0) | D20: 木内 恵 | F20: ケアセブン福祉用具 | G20: au iPhone | K20: iPhone SE3(2023-02) | L20: MMYC3J/A | M20: 3.55487E+14 | O20: FN6QP95V2N
A21: 08040789954 | B21: 貸与 | C21: =_xlfn.XLOOKUP(A21,ldap_users_export!K:K,ldap_users_export!B:B,"",0) | D21: 末木 翔也 | F21: 君住-千葉中央支店 | G21: Softbank iPhone | H21: s.sueki@next-hd.co.jp | K21: iPhone SE Midnight 64GB | L21: MMYC3J/A | M21: 3.51191E+14 | O21: M7YMTYF634
A22: 08073635629 | B22: 貸与 | C22: =_xlfn.XLOOKUP(A22,ldap_users_export!K:K,ldap_users_export!B:B,"",0) | D22: 本木 千晴 | F22: 東京設計課 | G22: Softbank Android | K22: Android DIGNO BX2
A23: 09098538247 | B23: 貸与 | C23: =_xlfn.XLOOKUP(A23,ldap_users_export!K:K,ldap_users_export!B:B,"",0) | D23: 北村 太志 | F23: 愛知-ブルージア大府 | G23: Softbank iPhone | K23: iPhone SE3 64GB
A24: 08036908865 | B24: 貸与 | C24: =_xlfn.XLOOKUP(A24,ldap_users_export!K:K,ldap_users_export!B:B,"",0) | D24: 望月 夏輝 | F24: actie立川 | G24: Softbank iPhone | H24: n.mochizuki@next-hd.co.jp | I24: 152535 | J24: NextHd0621# | K24: iPhone SE3 64GB
A25: 09049451097 | B25: 貸与 | C25: =_xlfn.XLOOKUP(A25,ldap_users_export!K:K,ldap_users_export!B:B,"",0) | D25: 豊藏 恵美 | F25: 東京-総務 | G25: Softbank iPhone | K25: iPhone 14 Plus
A26: 08047188315 | B26: 貸与 | C26: =_xlfn.XLOOKUP(A26,ldap_users_export!K:K,ldap_users_export!B:B,"",0) | D26: 豊蔵 一幸 | F26: 役員 | G26: Softbank iPhone | K26: iPhone13ProMax256GB | M26: 355
A27: 07040259493 | B27: 貸与 | C27: =_xlfn.XLOOKUP(A27,ldap_users_export!K:K,ldap_users_export!B:B,"",0) | D27: 保坂 眞亜子 | F27: 東京-設計課 | G27: Softbank Android | K27: Android DIGNO BX2
A28: 08069887151 | B28: 貸与 | C28: =_xlfn.XLOOKUP(A28,ldap_users_export!K:K,ldap_users_export!B:B,"",0) | D28: 片岡 信亮 | F28: クレバリーホーム静岡店 | G28: au iPhone | K28: iPhone SE3(2023-02) | L28: MMYC3J/A | M28: 3.55487E+14 | O28: M9C6JQ6GXF
A29: 07014178004 | B29: 貸与 | C29: =_xlfn.XLOOKUP(A29,ldap_users_export!K:K,ldap_users_export!B:B,"",0) | D29: 平川 卓弥 | F29: 東京-特建事業部 | G29: Softbank iPhone | K29: iPhone SE3 64GB
A30: 07031931816 | B30: 貸与 | C30: =_xlfn.XLOOKUP(A30,ldap_users_export!K:K,ldap_users_export!B:B,"",0) | D30: 平井 利明 | F30: actie大府 | G30: au iPhone | H30: t.hirai@next-hd.co.jp | I30: 152535 | J30: NextHd0624# | K30: iPhone SE3(2022-06)
A31: 08047187803 | B31: 貸与 | C31: =_xlfn.XLOOKUP(A31,ldap_users_export!K:K,ldap_users_export!B:B,"",0) | D31: 福島 成佳 | F31: クレバリーホーム静岡店 | G31: Softbank iPhone | K31: iPhone 14 128GB
A32: 08096533382 | B32: 貸与 | C32: =_xlfn.XLOOKUP(A32,ldap_users_export!K:K,ldap_users_export!B:B,"",0) | D32: 伏見 美和 | F32: ケアセブン | G32: au iPhone | H32: miwafusumi@gmail.com | I32: 0000 | J32: 2323Uchan | K32: iPhone SE2 | O32: FFNDNTYWPLJR
A33: 08078471054 | B33: 貸与 | C33: =_xlfn.XLOOKUP(A33,ldap_users_export!K:K,ldap_users_export!B:B,"",0) | D33: 武藤 高志 | F33: 東京-設計課 | G33: Softbank Android | K33: Android DIGNO BX2
A34: 07014642142 | B34: 貸与 | C34: =_xlfn.XLOOKUP(A34,ldap_users_export!K:K,ldap_users_export!B:B,"",0) | D34: 武 司 | F34: 東京-工務課 | G34: Softbank iPhone | H34: t.take@next-hd.co.jp | I34: 152535 | K34: iPhone SE Midnight 64GB | L34: MMYC3J/A | M34: 3.51191E+14 | O34: KF4TR7FPKH
A35: 08041299531 | B35: 貸与 | C35: =_xlfn.XLOOKUP(A35,ldap_users_export!K:K,ldap_users_export!B:B,"",0) | D35: 冨田 奈緒美 | F35: 東京-人事・社長室 | G35: au iPhone | K35: iPhone SE3(2022-06)
A36: 08074206700 | B36: 貸与 | C36: =_xlfn.XLOOKUP(A36,ldap_users_export!K:K,ldap_users_export!B:B,"",0) | D36: 梅澤 利貴 | F36: 東京-特建事業部 | G36: au iPhone | K36: iPhone SE3(2022-06)
A37: 08048853490 | B37: 貸与 | C37: =_xlfn.XLOOKUP(A37,ldap_users_export!K:K,ldap_users_export!B:B,"",0) | D37: 日野 拓望 | F37: 東京-工務課 | G37: au iPhone | K37: iPhone SE3(2022-06)
A38: 08036908763 | B38: 貸与 | C38: =_xlfn.XLOOKUP(A38,ldap_users_export!K:K,ldap_users_export!B:B,"",0) | D38: 日野 益巳 | F38: 東京-不動産部 | G38: Softbank Android | K38: Android DIGNO BX2
A39: 08036076930 | B39: 貸与 | C39: =_xlfn.XLOOKUP(A39,ldap_users_export!K:K,ldap_users_export!B:B,"",0) | D39: 内藤 雅弘 | F39: 東京-積算発注管理 | G39: Softbank iPhone | K39: iPhone SE Midnight 64GB | L39: MMYC3J/A | M39: 3.51191E+14 | O39: FVVQLWV7P1
A40: 09098536055 | B40: 貸与 | C40: =_xlfn.XLOOKUP(A40,ldap_users_export!K:K,ldap_users_export!B:B,"",0) -> 内田 早紀 | D40: 財部 恵利 | F40: 東京IC | G40: Softbank Android | H40: eri.takarabe@next-hd.co.jp | I40: 152535 | K40: iPhone SE2(SIM解除) | L40: MHGQ3J/A | M40: 356797119524198 | O40: FFNDNFK1PLJR
A41: 07015397892 | B41: 貸与 | C41: =_xlfn.XLOOKUP(A41,ldap_users_export!K:K,ldap_users_export!B:B,"",0) -> 藤澤 康博 | D41: 堤 正行 | F41: 東京工務 | G41: Softbank iPhone | I41: 000000 | K41: iPhone SE Midnight 64GB | L41: MMYC3J/A | M41: 3.51191E+14 | O41: DX3CN0TDHG7Y
A42: 08091937589 | B42: 貸与 | C42: =_xlfn.XLOOKUP(A42,ldap_users_export!K:K,ldap_users_export!B:B,"",0) | D42: 藤田 裕圭 | F42: 東京-特建事業部 | G42: Softbank iPhone | K42: iPhone SE3 64GB
A43: 08037263712 | B43: 貸与 | C43: =_xlfn.XLOOKUP(A43,ldap_users_export!K:K,ldap_users_export!B:B,"",0) | D43: 藤永 賢壱 | F43: ケアセブン | G43: Softbank iPhone | K43: iPhone SE3 64GB
A44: 07088233751 | B44: デザイノ管理 | C44: =_xlfn.XLOOKUP(A44,ldap_users_export!K:K,ldap_users_export!B:B,"",0) | D44: 藤井 知子 | F44: デザイノ | G44: au iPhone(デザイノ) | K44: iPhone SE3(2022-06)
A45: 08037254405 | B45: デザイノ管理 | C45: =_xlfn.XLOOKUP(A45,ldap_users_export!K:K,ldap_users_export!B:B,"",0) | D45: 島田 昌昭 | F45: デザイノ | G45: au iPhone(デザイノ) | K45: iPhone SE3(2022-06)
A46: 07041351459 | B46: 貸与 | C46: =_xlfn.XLOOKUP(A46,ldap_users_export!K:K,ldap_users_export!B:B,"",0) | D46: 唐澤 功 | F46: 東京-設計課 | G46: Softbank Android | K46: Android DIGNO BX2
A47: 09064507347 | B47: 貸与 | C47: =_xlfn.XLOOKUP(A47,ldap_users_export!K:K,ldap_users_export!B:B,"",0) | D47: 渡邉 賢二 | F47: 東京-アフター課 | G47: au iPhone | K47: iPhone SE3(2022-06)
A48: 07088233752 | B48: デザイノ管理 | C48: =_xlfn.XLOOKUP(A48,ldap_users_export!K:K,ldap_users_export!B:B,"",0) | D48: 渡辺 帆南 | F48: デザイノ | G48: au iPhone(デザイノ) | H48: h.watanabe@cleverlyhome.jp | I48: 152535 | K48: iPhone SE3(2022-06)
A49: 07013897114 | B49: 貸与 | C49: =_xlfn.XLOOKUP(A49,ldap_users_export!K:K,ldap_users_export!B:B,"",0) | D49: 渡部 直輝 | F49: 東京-リフォーム | G49: Softbank iPhone | K49: iPhone SE3 64GB
A50: 08036909078 | B50: 貸与 | C50: =_xlfn.XLOOKUP(A50,ldap_users_export!K:K,ldap_users_export!B:B,"",0) | D50: 田渕 留美子 | F50: 東京-FP事業部 | G50: Softbank Android | K50: iPhoneSE2 SIMロック解除端末
A51: 08074206782 | B51: 貸与 | C51: =_xlfn.XLOOKUP(A51,ldap_users_export!K:K,ldap_users_export!B:B,"",0) | D51: 田部井 優果 | F51: ケアセブン | G51: au iPhone | H51: yuka.someya@next-hd.co.jp | I51: 000000 | J51: Next0529# | K51: iPhone SE3(2022-06)
A52: 08037200955 | B52: 貸与 | C52: =_xlfn.XLOOKUP(A52,ldap_users_export!K:K,ldap_users_export!B:B,"",0) | D52: 田中 勇一 | F52: 東京-アクティエ横浜 | G52: Softbank iPhone | K52: iPhone 14 128GB
A53: 08041299711 | B53: 貸与 | C53: =_xlfn.XLOOKUP(A53,ldap_users_export!K:K,ldap_users_export!B:B,"",0) | D53: 田中 大輔 | F53: 東京-ネクストハウス厚木 | G53: au iPhone | K53: iPhone SE3(2022-06)
A54: 07031931814 | B54: 貸与 | C54: =_xlfn.XLOOKUP(A54,ldap_users_export!K:K,ldap_users_export!B:B,"",0) | D54: 田中 誠浩 | F54: 愛知-ネクストハウス各務原 | G54: au iPhone | K54: iPhone SE3(2022-06)
A55: 08096535074 | B55: 貸与 | C55: =_xlfn.XLOOKUP(A55,ldap_users_export!K:K,ldap_users_export!B:B,"",0) | D55: 田上 純 | F55: 東京-特建事業部 | G55: au iPhone | K55: iPhone SE3(2022-06)
A56: 08036078895 | B56: 貸与 | C56: =_xlfn.XLOOKUP(A56,ldap_users_export!K:K,ldap_users_export!B:B,"",0) | D56: 田原 修 | F56: 東京-アフター課 | G56: Softbank Android | K56: Android DIGNO BX2
A57: 08036077032 | B57: 貸与 | C57: =_xlfn.XLOOKUP(A57,ldap_users_export!K:K,ldap_users_export!B:B,"",0) | D57: 田ノ岡 春菜 | F57: 東京-IC課 | G57: Softbank Android | K57: Android DIGNO BX2
A58: 08011564431 | B58: 貸与 | C58: =_xlfn.XLOOKUP(A58,ldap_users_export!K:K,ldap_users_export!B:B,"",0) | D58: 津原 陸斗 | F58: 東京-設計課 | G58: Softbank Android | K58: Android DIGNO BX2
A59: 08049331425 | B59: 貸与 | C59: =_xlfn.XLOOKUP(A59,ldap_users_export!K:K,ldap_users_export!B:B,"",0) | D59: 長縄 由美 | F59: 愛知-ネクストハウス各務原 | G59: au iPhone | H59: y.naganawa@next-hd.co.jp | I59: 152535 | K59: iPhone SE3(2022-06) | L59: MMYC3J/A | M59: 3.58652E+14 | O59: D5JMF3QGT2
A60: 08047187794 | B60: 貸与 | C60: =_xlfn.XLOOKUP(A60,ldap_users_export!K:K,ldap_users_export!B:B,"",0) | D60: 長谷川 元気 | F60: 東京-工務課 | G60: Softbank Android | K60: Android DIGNO BX2
A61: 08037519670 | B61: 貸与 | C61: =_xlfn.XLOOKUP(A61,ldap_users_export!K:K,ldap_users_export!B:B,"",0) | D61: 長谷 弘美 | F61: 東京-特建事業部 | G61: Softbank iPhone | K61: iPhone SE3 64GB
A62: 09098528011 | B62: 貸与 | C62: =_xlfn.XLOOKUP(A62,ldap_users_export!K:K,ldap_users_export!B:B,"",0) | D62: 町田 元気 | F62: 東京-アクティエ立川 | G62: Softbank iPhone | K62: iPhone SE3 64GB
A63: 07015397958 | B63: 貸与 | C63: =_xlfn.XLOOKUP(A63,ldap_users_export!K:K,ldap_users_export!B:B,"",0) | D63: 中本 佳希 | F63: 愛知-アクティエ大府 | G63: Softbank iPhone | K63: iPhone SE Midnight 64GB | L63: MMYC3J/A | M63: 3.51191E+14 | O63: TN447DG23F
A64: 08030143871 | B64: 貸与 | C64: =_xlfn.XLOOKUP(A64,ldap_users_export!K:K,ldap_users_export!B:B,"",0) | D64: 中嶋 透 | F64: 東京-リフォーム | G64: Softbank Android | H64: t.nakajima@next-hd.co.jp | I64: 152535 | J64: Next0236# | K64: iPhone SE2
A65: 08032161370 | B65: 貸与 | C65: =_xlfn.XLOOKUP(A65,ldap_users_export!K:K,ldap_users_export!B:B,"",0) | D65: 中村 篤人 | F65: 東京-特建事業部 | G65: Softbank iPhone | K65: iPhone SE3 64GB
A66: 09098527746 | B66: 貸与 | C66: =_xlfn.XLOOKUP(A66,ldap_users_export!K:K,ldap_users_export!B:B,"",0) | D66: 中村 賢治 | F66: 東京-ネクストハウス立川 | G66: Softbank iPhone | K66: iPhone SE3 64GB
A67: 08073635221 | B67: 貸与 | C67: =_xlfn.XLOOKUP(A67,ldap_users_export!K:K,ldap_users_export!B:B,"",0) | D67: 中村 愛 | F67: なないろケアプランセンター | G67: Softbank iPhone | K67: iPhone SE3 64GB
A68: 09092281047 | B68: 貸与 | C68: =_xlfn.XLOOKUP(A68,ldap_users_export!K:K,ldap_users_export!B:B,"",0) | D68: 中川 真悟 | F68: クレバリーホーム静岡店 | G68: au iPhone | K68: iPhone SE3(2023-02) | L68: MMYC3J/A | M68: 3.55487E+14 | O68: TFDK2MW9V3
A69: 08040788151 | B69: 貸与 | C69: =_xlfn.XLOOKUP(A69,ldap_users_export!K:K,ldap_users_export!B:B,"",0) | D69: 池田 大輝 | F69: 君住-アクティブハウス市原 | G69: Softbank iPhone | H69: d.ikeda@next-hd.co.jp | K69: iPhone SE Midnight 64GB | L69: MMYC3J/A | M69: 3.51191E+14 | O69: N2J19G6KW3
A70: 08041295778 | B70: 貸与 | C70: =_xlfn.XLOOKUP(A70,ldap_users_export!K:K,ldap_users_export!B:B,"",0) | D70: 池戸 功輝 | F70: 愛知-アクティエ大府 | G70: au iPhone | K70: iPhone SE3(2022-06)
A71: 08096514794 | B71: 貸与 | C71: =_xlfn.XLOOKUP(A71,ldap_users_export!K:K,ldap_users_export!B:B,"",0) | D71: 谷 和彦 | F71: 東京-特建事業部 | G71: au iPhone | K71: iPhone SE3(2022-06)
A72: 07088304387 | B72: デザイノ管理 | C72: =_xlfn.XLOOKUP(A72,ldap_users_export!K:K,ldap_users_export!B:B,"",0) | D72: 大濵 直紀 | F72: デザイノ | G72: au iPhone(デザイノ) | I72: 000000 | K72: iPhone SE3(2022-07) | L72: MMYC3J/A | N72: D0-88-0C-DA-38-F5A | O72: GH0CXFVXGV
A73: 08047188279 | B73: 貸与 | C73: =_xlfn.XLOOKUP(A73,ldap_users_export!K:K,ldap_users_export!B:B,"",0) | D73: 大内 詩織 | F73: 営業積算 | G73: Softbank Android | K73: Android DIGNO BX2
A74: 08074207118 | B74: 貸与 | C74: =_xlfn.XLOOKUP(A74,ldap_users_export!K:K,ldap_users_export!B:B,"",0) | D74: 大塚 寿昌 | F74: 東京-アクティエ横浜 | G74: au iPhone | K74: iPhone SE3(2022-06)
A75: 08045710552 | B75: 貸与 | C75: =_xlfn.XLOOKUP(A75,ldap_users_export!K:K,ldap_users_export!B:B,"",0) | D75: 大谷 寛 | F75: 東京-工務課 | G75: Softbank Android | H75: h.otani@next-hd.co.jp | I75: 152535 | K75: Android DIGNO BX2
A76: 08041285017 | B76: 貸与 | C76: =_xlfn.XLOOKUP(A76,ldap_users_export!K:K,ldap_users_export!B:B,"",0) | D76: 早川 愛 | F76: 愛知-アクティエ大府 | G76: au iPhone | K76: iPhone SE3(2022-06)
A77: 07022430799 | B77: 貸与 | C77: =_xlfn.XLOOKUP(A77,ldap_users_export!K:K,ldap_users_export!B:B,"",0) | D77: 倉嶋 真章 | F77: なないろ | G77: au iPhone | K77: iPhone SE3(2023-02) | L77: MMYC3J/A | M77: 3.55487E+14 | O77: RCQYXDX9Y1
A78: 08096543667 | B78: 貸与 | C78: =_xlfn.XLOOKUP(A78,ldap_users_export!K:K,ldap_users_export!B:B,"",0) | D78: 蘇武 曜輝 | F78: 東京-不動産部 | G78: au iPhone | H78: akiteru.sobu@eco-ntk.com | I78: 000000 | J78: Nito0421#（たぶん） | K78: iPhone SE3(2022-06)
A79: 08099926381 | B79: 貸与 | C79: =_xlfn.XLOOKUP(A79,ldap_users_export!K:K,ldap_users_export!B:B,"",0) | D79: 浅見 雅士 | F79: 東京-特建事業部 | G79: Softbank iPhone | K79: iPhone SE3 64GB
A80: 08047188314 | B80: 貸与 | C80: =_xlfn.XLOOKUP(A80,ldap_users_export!K:K,ldap_users_export!B:B,"",0) | D80: 川名 真治 | F80: 役員 | G80: Softbank iPhone | K80: iPhone 14 128GB
A81: 08041299545 | B81: デザイノ管理 | C81: =_xlfn.XLOOKUP(A81,ldap_users_export!K:K,ldap_users_export!B:B,"",0) | D81: 川越 順哉 | F81: デザイノ | G81: au iPhone(デザイノ) | H81: j.kawagoe@cleverlyhome.jp | I81: 000000 | K81: iPhone SE3(2022-06) | L81: MMYC3J/A | M81: 35 548659 397460 5 | N81: D0:88:0C:DF:A0:67 | O81: C7WTV4T52P
A82: 07031931819 | B82: 貸与 | C82: =_xlfn.XLOOKUP(A82,ldap_users_export!K:K,ldap_users_export!B:B,"",0) | D82: 石田 直樹 | F82: 東京-アクティエ立川 | G82: au iPhone | K82: iPhone SE3(2022-06)
A83: 08047302614 | B83: 貸与 | C83: =_xlfn.XLOOKUP(A83,ldap_users_export!K:K,ldap_users_export!B:B,"",0) | D83: 斉藤 類 | F83: ACTIVE HOUSE八王子 | G83: Softbank iPhone | H83: r.saito@next-hd.co.jp | I83: 152535 | J83: NextHd0619# | K83: iPhone SE Midnight 64GB | L83: MMYC3J/A | M83: 3.5629E+14 | O83: VHKXM27CQ2
A84: 07031931815 | B84: 貸与 | C84: =_xlfn.XLOOKUP(A84,ldap_users_export!K:K,ldap_users_export!B:B,"",0) | D84: 青木 彩 | F84: アクティブハウス八王子 | G84: au iPhone | K84: iPhone SE3(2022-06) | L84: MMYC3J/A | M84: 358651664495072 | O84: R56KJ3CFD2
A85: 07013897119 | B85: 貸与 | C85: =_xlfn.XLOOKUP(A85,ldap_users_export!K:K,ldap_users_export!B:B,"",0) | D85: 青地 渉 | F85: Graph熊本 | G85: Softbank iPhone | K85: iPhone SE3 64GB
A86: 08074206974 | B86: 貸与 | C86: =_xlfn.XLOOKUP(A86,ldap_users_export!K:K,ldap_users_export!B:B,"",0) | D86: 生方 啓希 | F86: 東京-特建事業部 | G86: au iPhone | K86: iPhone SE3(2022-06)
A87: 08041296259 | B87: 貸与 | C87: =_xlfn.XLOOKUP(A87,ldap_users_export!K:K,ldap_users_export!B:B,"",0) | D87: 正田 克之 | F87: 愛知-アクティブハウス一宮 | G87: au iPhone | K87: iPhone SE3(2022-06)
A88: 08036076957 | B88: 貸与 | C88: =_xlfn.XLOOKUP(A88,ldap_users_export!K:K,ldap_users_export!B:B,"",0) -> 菅原 千夏 | D88: 佐藤 萌 | F88: 東京IC課 | G88: Softbank Android | K88: Android DIGNO BX2
A89: 08047188317 | B89: 貸与 | C89: =_xlfn.XLOOKUP(A89,ldap_users_export!K:K,ldap_users_export!B:B,"",0) | D89: 杉山 康弘 | F89: 役員 | G89: Softbank iPhone | K89: iPhone 14 128GB
A90: 08048182289 | B90: 貸与 | C90: =_xlfn.XLOOKUP(A90,ldap_users_export!K:K,ldap_users_export!B:B,"",0) | D90: 杉浦 舞有 | F90: 東京-特建事業部 | G90: Softbank Android | K90: Android DIGNO BX2
A91: 08037521709 | B91: 貸与 | C91: =_xlfn.XLOOKUP(A91,ldap_users_export!K:K,ldap_users_export!B:B,"",0) | D91: 深津 麻里 | F91: 愛知-IC課 | G91: Softbank Android | K91: Android DIGNO BX2
A92: 08041295764 | B92: 貸与 | C92: =_xlfn.XLOOKUP(A92,ldap_users_export!K:K,ldap_users_export!B:B,"",0) | D92: 森田 玲大 | F92: 東京-ネクストハウス立川 | G92: au iPhone | K92: iPhone SE3(2022-06)
A93: 08030143920 | B93: デザイノ管理 | C93: =_xlfn.XLOOKUP(A93,ldap_users_export!K:K,ldap_users_export!B:B,"",0) -> 森山 直 | D93: 比嘉 朱里 | F93: デザイノ（エックスモバイル） | G93: au iPhone(デザイノ) | H93: n.moriyama@cleverlyhome.jp | I93: 000000 | K93: iPhone SE3(2022-06)
A94: 08041299581 | B94: 貸与 | C94: =_xlfn.XLOOKUP(A94,ldap_users_export!K:K,ldap_users_export!B:B,"",0) | D94: 森下 恭行 | F94: クレバリーホーム静岡店 | G94: au iPhone | K94: iPhone SE3(2022-06)
A95: 08041299528 | B95: 貸与 | C95: =_xlfn.XLOOKUP(A95,ldap_users_export!K:K,ldap_users_export!B:B,"",0) | D95: 森 雅浩 | F95: 愛知-工務課 | G95: au iPhone | H95: m.mori@next-hd.co.jp | I95: 000000 | J95: Next0553# | K95: iPhone SE3(2022-06) | L95: MMYC3J/A | M95: 3.58652E+14 | N95: D0-88-0C-E9-31-66 | O95: WJ4F9N4WWF
A96: 07041351171 | B96: 貸与 | C96: =_xlfn.XLOOKUP(A96,ldap_users_export!K:K,ldap_users_export!B:B,"",0) | D96: 新沼 茂 | F96: 東京-特建事業部 | G96: Softbank iPhone | K96: iPhone SE3 64GB
A97: 08073634481 | B97: 貸与 | C97: =_xlfn.XLOOKUP(A97,ldap_users_export!K:K,ldap_users_export!B:B,"",0) | D97: 上野 昌彦 | F97: 東京-特建事業部 | G97: Softbank iPhone | K97: iPhone SE3 64GB
A98: 08096533379 | B98: 貸与 | C98: =_xlfn.XLOOKUP(A98,ldap_users_export!K:K,ldap_users_export!B:B,"",0) | D98: 松本 伯夫 | F98: 東京アフター | G98: au iPhone | H98: n.matsumoto@next-hd.co.jp | I98: 152535 | J98: NextHd0625# | K98: iPhone SE3(2022-06)
A99: 08036077107 | B99: 貸与 | C99: =_xlfn.XLOOKUP(A99,ldap_users_export!K:K,ldap_users_export!B:B,"",0) | D99: 松本 真由 | F99: 東京-人事・社長室 | G99: Softbank Android | K99: Android DIGNO BX2
A100: 08037200990 | B100: 貸与 | C100: =_xlfn.XLOOKUP(A100,ldap_users_export!K:K,ldap_users_export!B:B,"",0) | D100: 松崎 文彦 | F100: 東京-アフター課 | G100: Softbank Android | K100: Android DIGNO BX2
...
