Workbook

Sheet C付帯工事見積書
A1: =SUM(B1:AA1) -> 107 | B1: 10 | C1: 17 | D1: 16 | E1: 4 | F1: 18 | G1: 2 | H1: 3 | I1: 1 | J1: 6 | K1: 6 | L1: 12 | M1: 12
B2: C 付帯工事見積書 | J2: 店長 | L2: 担当 | M2: 担当
B4: =param!C2 -> 0
B7: 工事名 | D7: =param!C3 -> 0
J8: 契約日 | L8: =param!C40 -> 0
B9: 付帯工事金額合計 | D9: =param!C4 -> 0 | H9: 円 | J9: 有効期限 | L9: 契約日より30日以内
C12: 項目名 | F12: 確定額 | G12: 備考
A13: 1 | B13: 仮設 | C13: =param!C5 -> 水道 (工事用) | E13: 外税 | F13: =param!E5 -> 0 | G13: =param!G5 -> 0
A14: 2 | C14: =param!C6 -> トイレ (工事用) | E14: 外税 | F14: =param!E6 -> 0 | G14: =param!G6 -> 0
A15: 3 | C15: =param!C7 -> 電気 (工事用) | E15: 外税 | F15: =param!E7 -> 0 | G15: =param!G7 -> 0
A16: 4 | C16: =param!C8 -> 特殊運搬費 (作業狭小・高低差等) | E16: 外税 | F16: =param!E8 -> 0 | G16: =param!G8 -> 0
A17: 5 | C17: =param!C9 -> 養生・仮囲い費用 | E17: 外税 | F17: =param!E9 -> 0 | G17: =param!G9 -> 0
A18: 6 | C18: =param!C10 -> 特殊養生費（鉄板養生等） | E18: 外税 | F18: =param!E10 -> 0 | G18: =param!G10 -> 0
A19: 7 | B19: 地盤 | C19: =param!C11 -> 地盤調査費 | E19: 外税 | F19: =param!E11 -> 0 | G19: =param!G11 -> 0
A20: 8 | C20: =param!C12 -> 地盤改良費 | E20: 外税 | F20: =param!E12 -> 0 | G20: =param!G12 -> 0
A21: 9 | B21: 電気 | C21: =param!C13 -> 動力 (申請含む) | E21: 外税 | F21: =param!E13 -> 0 | G21: =param!G13 -> 0
A22: 10 | C22: =param!C14 -> 外線引込 | E22: 外税 | F22: =param!E14 -> 0 | G22: =param!G14 -> 0
A23: 11 | B23: ガス | C23: =param!C15 -> プロパンガス | E23: 外税 | F23: =param!E15 -> 0 | G23: =param!G15 -> 0
A24: 12 | C24: =param!C16 -> 都市ガス | E24: 外税 | F24: =param!E16 -> 0 | G24: =param!G16 -> 0
A25: 13 | B25: 水道 | C25: =param!C17 -> 屋外給排水工事 | E25: 外税 | F25: =param!E17 -> 0 | G25: =param!G17 -> 0
A26: 14 | C26: =param!C18 -> 雨排水工事 | E26: 外税 | F26: =param!E18 -> 0 | G26: =param!G18 -> 0
A27: 15 | C27: =param!C19 -> 給排水引込工事 | E27: 外税 | F27: =param!E19 -> 0 | G27: =param!G19 -> 0
A28: 16 | B28: 外構 | C28: =param!C20 -> 外構工事 | E28: 外税 | F28: =param!E20 -> 0 | G28: =param!G20 -> 0
A29: 17 | B29: 解体 | C29: =param!C21 -> 解体工事 | E29: 外税 | F29: =param!E21 -> 0 | G29: =param!G21 -> 0
A30: 18 | B30: 造成 | C30: =param!C22 -> 造成工事 | E30: 外税 | F30: =param!E22 -> 0 | G30: =param!G22 -> 0
A31: 19 | B31: 書代 | C31: =param!C23 -> 確認申請・建築に関する申請 | E31: 外税 | F31: =param!E23 -> 0 | G31: =param!G23 -> 0
A32: 20 | C32: =param!C24 -> 設計図書 | E32: 外税 | F32: =param!E24 -> 0 | G32: =param!G24 -> 0
A33: 21 | C33: =param!C25 -> 構造計算費用 | E33: 外税 | F33: =param!E25 -> 0 | G33: =param!G25 -> 0
A34: 22 | C34: =param!C26 -> フラット仕様申請費用 | E34: 外税 | F34: =param!E26 -> 0 | G34: =param!G26 -> 0
A35: 23 | C35: =param!C27 -> 長期優良住宅申請費用 | E35: 外税 | F35: =param!E27 -> 0 | G35: =param!G27 -> 0
A36: 24 | B36: その他 | C36: =param!C28 -> 遠隔地費用 | E36: 外税 | F36: =param!E28 -> 0 | G36: =param!G28 -> 0
A37: 25 | C37: =param!C29 -> 通信工事 | E37: 外税 | F37: =param!E29 -> 0 | G37: =param!G29 -> 0
A38: 26 | C38: =param!C30 -> エアコン工事 | E38: 外税 | F38: =param!E30 -> 0 | G38: =param!G30 -> 0
A39: 27 | C39: =param!C31 -> カーテン工事 | E39: 外税 | F39: =param!E31 -> 0 | G39: =param!G31 -> 0
A40: 28 | C40: =param!C32 -> 照明工事 | E40: 外税 | F40: =param!E32 -> 0 | G40: =param!G32 -> 0
A41: 29 | C41: =param!C33 -> 0 | E41: 外税 | F41: =param!E33 -> 0 | G41: =param!G33 -> 0
A42: 30 | C42: =param!C34 -> 0 | E42: 外税 | F42: =param!E34 -> 0 | G42: =param!G34 -> 0
A43: 31 | C43: =param!C35 -> 0 | E43: 外税 | F43: =param!E35 -> 0 | G43: =param!G35 -> 0
A44: 32 | C44: =param!C36 -> 0 | E44: 外税 | F44: =param!E36 -> 0 | G44: =param!G36 -> 0
A45: 33 | C45: =param!C37 -> 0 | E45: 外税 | F45: =param!E37 -> 0 | G45: =param!G37 -> 0
A46: 34 | C46: 合計 | F46: =SUM(F13:F45) -> 0

Sheet param
B1: 項目 | C1: 値 | D1: 項目 | E1: 値 | F1: 項目 | G1: 値
B2: 注文者
B3: 工事名
B4: 追加変更工事金額合計
B5: 項目1 | C5: 水道 (工事用) | D5: 確定額1 | F5: 備考1
B6: 項目2 | C6: トイレ (工事用) | D6: 確定額2 | F6: 備考2
B7: 項目3 | C7: 電気 (工事用) | D7: 確定額3 | F7: 備考3
B8: 項目4 | C8: 特殊運搬費 (作業狭小・高低差等) | D8: 確定額4 | F8: 備考4
B9: 項目5 | C9: 養生・仮囲い費用 | D9: 確定額5 | F9: 備考5
B10: 項目6 | C10: 特殊養生費（鉄板養生等） | D10: 確定額6 | F10: 備考6
B11: 項目7 | C11: 地盤調査費 | D11: 確定額7 | F11: 備考7
B12: 項目8 | C12: 地盤改良費 | D12: 確定額8 | F12: 備考8
B13: 項目9 | C13: 動力 (申請含む) | D13: 確定額9 | F13: 備考9
B14: 項目10 | C14: 外線引込 | D14: 確定額10 | F14: 備考10
B15: 項目11 | C15: プロパンガス | D15: 確定額11 | F15: 備考11
B16: 項目12 | C16: 都市ガス | D16: 確定額12 | F16: 備考12
... B32: 項目28 | C32: 照明工事 | D32: 確定額28 | F32: 備考28
B33: 項目29 | D33: 確定額29 | F33: 備考29
B34: 項目30 | D34: 確定額30 | F34: 備考30
B35: 項目31 | D35: 確定額31 | F35: 備考31
B36: 項目32 | D36: 確定額32 | F36: 備考32
B37: 項目33 | D37: 確定額33 | F37: 備考33
B40: 契約日
