Workbook

Sheet B追加変更工事見積書
A1: =SUM(B1:Z1) -> 107 | B1: 21 | C1: 6 | D1: 40 | E1: 3 | F1: 1 | G1: 6 | H1: 6 | I1: 12 | J1: 12
B2: B 追加変更工事見積書 | G2: 店長 | I2: 担当 | J2: 担当
B4: =param!C2 -> 0
B7: 工事名 | D7: =param!C3 -> 0
G8: 契約日 | I8: =param!C40 -> 0
B9: 追加変更工事金額合計 | D9: =param!C4 -> 0 | E9: 円 | G9: 有効期限 | I9: 契約日より30日以内
B12: 名称 | C12: 区分 | D12: 仕様 | G12: 数量 | H12: 単位 | I12: 単価 | J12: 金額
A13: 1 | B13: =param!C5 -> 0 | C13: =param!E5 -> 0 | D13: =param!G5 -> 0 | G13: =param!I5 -> 0 | H13: =param!K5 -> 0 | I13: =IF(AND(param!C5<>"",param!G5<>""),param!M5," ") | J13: =IF(AND(param!C5<>"",param!G5<>""),param!O5," ")
A14: 2 | B14: =param!C6 -> 0 | C14: =param!E6 -> 0 | D14: =param!G6 -> 0 | G14: =param!I6 -> 0 | H14: =param!K6 -> 0 | I14: =IF(AND(param!C6<>"",param!G6<>""),param!M6," ") | J14: =IF(AND(param!C6<>"",param!G6<>""),param!O6," ")
A15: 3 | B15: =param!C7 -> 0 | C15: =param!E7 -> 0 | D15: =param!G7 -> 0 | G15: =param!I7 -> 0 | H15: =param!K7 -> 0 | I15: =IF(AND(param!C7<>"",param!G7<>""),param!M7," ") | J15: =IF(AND(param!C7<>"",param!G7<>""),param!O7," ")
A16: 4 | B16: =param!C8 -> 0 | C16: =param!E8 -> 0 | D16: =param!G8 -> 0 | G16: =param!I8 -> 0 | H16: =param!K8 -> 0 | I16: =IF(AND(param!C8<>"",param!G8<>""),param!M8," ") | J16: =IF(AND(param!C8<>"",param!G8<>""),param!O8," ")
A17: 5 | B17: =param!C9 -> 0 | C17: =param!E9 -> 0 | D17: =param!G9 -> 0 | G17: =param!I9 -> 0 | H17: =param!K9 -> 0 | I17: =IF(AND(param!C9<>"",param!G9<>""),param!M9," ") | J17: =IF(AND(param!C9<>"",param!G9<>""),param!O9," ")
A18: 6 | B18: =param!C10 -> 0 | C18: =param!E10 -> 0 | D18: =param!G10 -> 0 | G18: =param!I10 -> 0 | H18: =param!K10 -> 0 | I18: =IF(AND(param!C10<>"",param!G10<>""),param!M10," ") | J18: =IF(AND(param!C10<>"",param!G10<>""),param!O10," ")
A19: 7 | B19: =param!C11 -> 0 | C19: =param!E11 -> 0 | D19: =param!G11 -> 0 | G19: =param!I11 -> 0 | H19: =param!K11 -> 0 | I19: =IF(AND(param!C11<>"",param!G11<>""),param!M11," ") | J19: =IF(AND(param!C11<>"",param!G11<>""),param!O11," ")
A20: 8 | B20: =param!C12 -> 0 | C20: =param!E12 -> 0 | D20: =param!G12 -> 0 | G20: =param!I12 -> 0 | H20: =param!K12 -> 0 | I20: =IF(AND(param!C12<>"",param!G12<>""),param!M12," ") | J20: =IF(AND(param!C12<>"",param!G12<>""),param!O12," ")
A21: 9 | B21: =param!C13 -> 0 | C21: =param!E13 -> 0 | D21: =param!G13 -> 0 | G21: =param!I13 -> 0 | H21: =param!K13 -> 0 | I21: =IF(AND(param!C13<>"",param!G13<>""),param!M13," ") | J21: =IF(AND(param!C13<>"",param!G13<>""),param!O13," ")
A22: 10 | B22: =param!C14 -> 0 | C22: =param!E14 -> 0 | D22: =param!G14 -> 0 | G22: =param!I14 -> 0 | H22: =param!K14 -> 0 | I22: =IF(AND(param!C14<>"",param!G14<>""),param!M14," ") | J22: =IF(AND(param!C14<>"",param!G14<>""),param!O14," ")
A23: 11 | B23: =param!C15 -> 0 | C23: =param!E15 -> 0 | D23: =param!G15 -> 0 | G23: =param!I15 -> 0 | H23: =param!K15 -> 0 | I23: =IF(AND(param!C15<>"",param!G15<>""),param!M15," ") | J23: =IF(AND(param!C15<>"",param!G15<>""),param!O15," ")
A24: 12 | B24: =param!C16 -> 0 | C24: =param!E16 -> 0 | D24: =param!G16 -> 0 | G24: =param!I16 -> 0 | H24: =param!K16 -> 0 | I24: =IF(AND(param!C16<>"",param!G16<>""),param!M16," ") | J24: =IF(AND(param!C16<>"",param!G16<>""),param!O16," ")
... A32: 20 | B32: =param!C24 -> 0 | C32: =param!E24 -> 0 | D32: =param!G24 -> 0 | G32: =param!I24 -> 0 | H32: =param!K24 -> 0 | I32: =IF(AND(param!C24<>"",param!G24<>""),param!M24," ") | J32: =IF(AND(param!C24<>"",param!G24<>""),param!O24," ")

Sheet param
B1: 項目 | C1: 値 | D1: 項目 | E1: 値 | F1: 項目 | G1: 値
B2: 注文者
B3: 工事名
B4: 追加変更工事金額合計
B5: 名称1 | D5: 区分1 | F5: 仕様1 | H5: 数量1 | J5: 単位1 | L5: 単価1 | N5: 合計 | O5: =IF(I5>0,I5*M5,0) -> 0
B6: 名称2 | D6: 区分2 | F6: 仕様2 | H6: 数量2 | J6: 単位2 | L6: 単価2 | N6: 単価2 | O6: =IF(I6>0,I6*M6,0) -> 0
B7: 名称3 | D7: 区分3 | F7: 仕様3 | H7: 数量3 | J7: 単位3 | L7: 単価3 | N7: 単価3 | O7: =IF(I7>0,I7*M7,0) -> 0
B8: 名称4 | D8: 区分4 | F8: 仕様4 | H8: 数量4 | J8: 単位4 | L8: 単価4 | N8: 単価4 | O8: =IF(I8>0,I8*M8,0) -> 0
B9: 名称5 | D9: 区分5 | F9: 仕様5 | H9: 数量5 | J9: 単位5 | L9: 単価5 | N9: 単価5 | O9: =IF(I9>0,I9*M9,0) -> 0
B10: 名称6 | D10: 区分6 | F10: 仕様6 | H10: 数量6 | J10: 単位6 | L10: 単価6 | N10: 単価6 | O10: =IF(I10>0,I10*M10,0) -> 0
B11: 名称7 | D11: 区分7 | F11: 仕様7 | H11: 数量7 | J11: 単位7 | L11: 単価7 | N11: 単価7 | O11: =IF(I11>0,I11*M11,0) -> 0
B12: 名称8 | D12: 区分8 | F12: 仕様8 | H12: 数量8 | J12: 単位8 | L12: 単価8 | N12: 単価8 | O12: =IF(I12>0,I12*M12,0) -> 0
B13: 名称9 | D13: 区分9 | F13: 仕様9 | H13: 数量9 | J13: 単位9 | L13: 単価9 | N13: 単価9 | O13: =IF(I13>0,I13*M13,0) -> 0
B14: 名称10 | D14: 区分10 | F14: 仕様10 | H14: 数量10 | J14: 単位10 | L14: 単価10 | N14: 単価10 | O14: =IF(I14>0,I14*M14,0) -> 0
B15: 名称11 | D15: 区分11 | F15: 仕様11 | H15: 数量11 | J15: 単位11 | L15: 単価11 | N15: 単価11 | O15: =IF(I15>0,I15*M15,0) -> 0
B16: 名称12 | D16: 区分12 | F16: 仕様12 | H16: 数量12 | J16: 単位12 | L16: 単価12 | N16: 単価12 | O16: =IF(I16>0,I16*M16,0) -> 0
... B24: 名称20 | D24: 区分20 | F24: 仕様20 | H24: 数量20 | J24: 単位20 | L24: 単価20 | N24: 単価20 | O24: =IF(I24>0,I24*M24,0) -> 0
B40: 契約日
