Workbook

Sheet A建物工事見積書
A1: =SUM(B1:Z1) -> 108 | B1: 24 | C1: 3 | D1: 40 | E1: 3 | F1: 1 | G1: 13 | H1: 12 | I1: 12
B2: A 建物工事見積書 | G2: 店長 | H2: 担当 | I2: 担当
B4: =param!C2 -> 0
B7: 工事名 | D7: =param!C3 -> 0
G8: 契約日 | H8: =param!C40 -> 0
B9: 建物工事金額合計 | D9: =param!C4 -> 0 | E9: 円 | G9: 有効期限 | H9: 契約日より30日以内
B12: 名称 | C12: 仕様 | H12: 工事見積金額
A13: 1 | B13: =param!C5 -> 0 | C13: =param!E5 -> 0 | G13: =IF(LEN(B13)>1,"一式","") | H13: =param!G5 -> 0 | K13: =param!I5 -> 0
A14: 2 | B14: =param!C6 -> 0 | C14: =param!E6 -> 0 | G14: =IF(LEN(B14)>1,"一式","") | H14: =param!G6 -> 0 | K14: =param!I6 -> 0
A15: 3 | B15: =param!C7 -> 0 | C15: =param!E7 -> 0 | G15: =IF(LEN(B15)>1,"一式","") | H15: =param!G7 -> 0 | K15: =param!I7 -> 0
A16: 4 | B16: =param!C8 -> 0 | C16: =param!E8 -> 0 | G16: =IF(LEN(B16)>1,"一式","") | H16: =param!G8 -> 0 | K16: =param!I8 -> 0
A17: 5 | B17: =param!C9 -> 0 | C17: =param!E9 -> 0 | G17: =IF(LEN(B17)>1,"一式","") | H17: =param!G9 -> 0 | K17: =param!I9 -> 0
A18: 6 | B18: =param!C10 -> 0 | C18: =param!E10 -> 0 | G18: =IF(LEN(B18)>1,"一式","") | H18: =param!G10 -> 0 | K18: =param!I10 -> 0
A19: 7 | B19: =param!C11 -> 0 | C19: =param!E11 -> 0 | G19: =IF(LEN(B19)>1,"一式","") | H19: =param!G11 -> 0 | K19: =param!I11 -> 0
A20: 8 | B20: =param!C12 -> 0 | C20: =param!E12 -> 0 | G20: =IF(LEN(B20)>1,"一式","") | H20: =param!G12 -> 0 | K20: =param!I12 -> 0
A21: 9 | B21: =param!C13 -> 0 | C21: =param!E13 -> 0 | G21: =IF(LEN(B21)>1,"一式","") | H21: =param!G13 -> 0 | K21: =param!I13 -> 0
A22: 10 | B22: =param!C14 -> 0 | C22: =param!E14 -> 0 | G22: =IF(LEN(B22)>1,"一式","") | H22: =param!G14 -> 0 | K22: =param!I14 -> 0
A23: 11 | B23: =param!C15 -> 0 | C23: =param!E15 -> 0 | G23: =IF(LEN(B23)>1,"一式","") | H23: =param!G15 -> 0 | K23: =param!I15 -> 0
A24: 12 | B24: =param!C16 -> 0 | C24: =param!E16 -> 0 | G24: =IF(LEN(B24)>1,"一式","") | H24: =param!G16 -> 0 | K24: =param!I16 -> 0
... A27: 15 | B27: =param!C19 -> 0 | C27: =param!E19 -> 0 | G27: =IF(LEN(B27)>1,"一式","") | H27: =param!G19 -> 0 | K27: =param!I19 -> 0

Sheet param
B1: 項目 | C1: 値 | D1: 項目 | E1: 値 | F1: 項目 | G1: 値 | H1: 項目 | I1: 値
B2: 注文者
B3: 工事名
B4: 建物工事金額合計
B5: 名称1 | D5: 仕様1 | F5: 工事見積金額1 | H5: 正式概算1
B6: 名称2 | D6: 仕様2 | F6: 工事見積金額2 | H6: 正式概算2
B7: 名称3 | D7: 仕様3 | F7: 工事見積金額3 | H7: 正式概算3
B8: 名称4 | D8: 仕様4 | F8: 工事見積金額4 | H8: 正式概算4
B9: 名称5 | D9: 仕様5 | F9: 工事見積金額5 | H9: 正式概算5
B10: 名称6 | D10: 仕様6 | F10: 工事見積金額6 | H10: 正式概算6
B11: 名称7 | D11: 仕様7 | F11: 工事見積金額7 | H11: 正式概算7
B12: 名称8 | D12: 仕様8 | F12: 工事見積金額8 | H12: 正式概算8
B13: 名称9 | D13: 仕様9 | F13: 工事見積金額9 | H13: 正式概算9
B14: 名称10 | D14: 仕様10 | F14: 工事見積金額10 | H14: 正式概算10
B15: 名称11 | D15: 仕様11 | F15: 工事見積金額11 | H15: 正式概算11
B16: 名称12 | D16: 仕様12 | F16: 工事見積金額12 | H16: 正式概算12
... B19: 名称15 | D19: 仕様15 | F19: 工事見積金額15 | H19: 正式概算15
B40: 契約日
