Workbook
Name 大文字カナ名: param!$D$30
Name 大文字カナ名1: 振込案内!$E$52
Name 大文字カナ名2: 振込案内!$Q$52
Name 大文字カナ名3: 振込案内!$AC$52

Sheet 振込案内
A1: ="1/"&param!C20 -> 1/0 | I1: =TODAY() -> 45199 | M1: ="2/"&param!C20 -> 2/0 | U1: =TODAY() -> 45199 | Y1: ="3/"&param!C20 -> 3/0 | AG1: =TODAY() -> 45199
B3: =F52 &" 様" -> 様 | N3: =R52 &" 様" -> 様 | Z3: =AD52 &" 様" -> 様
H5: =param!C3 -> 0 | T5: =param!C3 -> 0 | AF5: =param!C3 -> 0
H6: =param!C4&param!C5 | T6: =param!C4&param!C5 | AF6: =param!C4&param!C5
H7: =param!C6 -> 0 | T7: =param!C6 -> 0 | AF7: =param!C6 -> 0
H8: =param!C7 -> 0 | T8: =param!C7 -> 0 | AF8: =param!C7 -> 0
H9: =param!C8 -> 0 | J9: =param!C9 -> 0 | T9: =param!C8 -> 0 | V9: =param!C9 -> 0 | AF9: =param!C8 -> 0 | AH9: =param!C9 -> 0
H10: =param!C10 -> 0 | T10: =param!C10 -> 0 | AF10: =param!C10 -> 0
B12: 振込先のご案内 | N12: 振込先のご案内 | Z12: 振込先のご案内
B16: 拝啓 時下ますますご清栄のこととお喜び申し上げます。平素は格別のご高配を賜り、誠にありがとうございます。 | N16: 拝啓 時下ますますご清栄のこととお喜び申し上げます。平素は格別のご高配を賜り、誠にありがとうございます。 | Z16: 拝啓 時下ますますご清栄のこととお喜び申し上げます。平素は格別のご高配を賜り、誠にありがとうございます。
B18: さて、お支払い時の弊社振込先の銀行口座につきまして、下記のとおり、ご案内申し上げます。今後、弊社宛てお支払いの際はこちらをご利用いただきますようお願い申し上げます。 まずは、書面をもちまして、振込先のご案内まで申し上げます。 | N18: さて、お支払い時の弊社振込先の銀行口座につきまして、下記のとおり、ご案内申し上げます。今後、弊社宛てお支払いの際はこちらをご利用いただきますようお願い申し上げます。 まずは、書面をもちまして、振込先のご案内まで申し上げます。 | Z18: さて、お支払い時の弊社振込先の銀行口座につきまして、下記のとおり、ご案内申し上げます。今後、弊社宛てお支払いの際はこちらをご利用いただきますようお願い申し上げます。 まずは、書面をもちまして、振込先のご案内まで申し上げます。
F22: 記 | R22: 記 | AD22: 記
C24: =param!C11 -> 0 | O24: =param!C11 -> 0 | AA24: =param!C11 -> 0
C26: =param!C12 -> 0 | O26: =param!C12 -> 0 | AA26: =param!C12 -> 0
C29: ■ 振込手続き時のお願い ■ | O29: ■ 振込手続き時のお願い ■ | AA29: ■ 振込手続き時のお願い ■
C31: 【振込依頼人名】の前に"契約コード"を付記してください | O31: 【振込依頼人名】の前に"契約コード"を付記してください | AA31: 【振込依頼人名】の前に"契約コード"を付記してください
D33: 例1:半角 | E33: =ASC(param!C13&大文字カナ名1) | P33: 例1:半角 | Q33: =ASC(param!C13&大文字カナ名2) | AB33: 例1:半角 | AC33: =ASC(param!C13&大文字カナ名3)
D34: 例2:全角 | E34: =DBCS(param!C13&大文字カナ名1) | P34: 例2:全角 | Q34: =DBCS(param!C13&大文字カナ名2) | AB34: 例2:全角 | AC34: =DBCS(param!C13&大文字カナ名3)
E35: ※捨て仮名（小書き文字）はすべて大文字に変換されます | Q35: ※捨て仮名（小書き文字）はすべて大文字に変換されます | AC35: ※捨て仮名（小書き文字）はすべて大文字に変換されます
D36: 字数・半角文字・全角文字等については、各金融機関の振込方法に従って変更してください。 | P36: 字数・半角文字・全角文字等については、各金融機関の振込方法に従って変更してください。 | AB36: 字数・半角文字・全角文字等については、各金融機関の振込方法に従って変更してください。
K40: 敬具 | W40: 敬具 | AI40: 敬具
E43: =param!C17&param!E17 | Q43: =param!C18&param!E18 | AC43: =param!C19&param!E19
C44: ァ | D44: ア | E44: =SUBSTITUTE(E43,C44,D44) | O44: ァ | P44: ア | Q44: =SUBSTITUTE(Q43,O44,P44) | AA44: ァ | AB44: ア | AC44: =SUBSTITUTE(AC43,AA44,AB44)
C45: ィ | D45: イ | E45: =SUBSTITUTE(E44,C45,D45) | O45: ィ | P45: イ | Q45: =SUBSTITUTE(Q44,O45,P45) | AA45: ィ | AB45: イ | AC45: =SUBSTITUTE(AC44,AA45,AB45)
C46: ゥ | D46: ウ | E46: =SUBSTITUTE(E45,C46,D46) | O46: ゥ | P46: ウ | Q46: =SUBSTITUTE(Q45,O46,P46) | AA46: ゥ | AB46: ウ | AC46: =SUBSTITUTE(AC45,AA46,AB46)
C47: ェ | D47: エ | E47: =SUBSTITUTE(E46,C47,D47) | O47: ェ | P47: エ | Q47: =SUBSTITUTE(Q46,O47,P47) | AA47: ェ | AB47: エ | AC47: =SUBSTITUTE(AC46,AA47,AB47)
C48: ォ | D48: オ | E48: =SUBSTITUTE(E47,C48,D48) | O48: ォ | P48: オ | Q48: =SUBSTITUTE(Q47,O48,P48) | AA48: ォ | AB48: オ | AC48: =SUBSTITUTE(AC47,AA48,AB48)
C49: ッ | D49: ツ | E49: =SUBSTITUTE(E48,C49,D49) | O49: ッ | P49: ツ | Q49: =SUBSTITUTE(Q48,O49,P49) | AA49: ッ | AB49: ツ | AC49: =SUBSTITUTE(AC48,AA49,AB49)
C50: ャ | D50: ヤ | E50: =SUBSTITUTE(E49,C50,D50) | O50: ャ | P50: ヤ | Q50: =SUBSTITUTE(Q49,O50,P50) | AA50: ャ | AB50: ヤ | AC50: =SUBSTITUTE(AC49,AA50,AB50)
C51: ュ | D51: ユ | E51: =SUBSTITUTE(E50,C51,D51) | O51: ュ | P51: ユ | Q51: =SUBSTITUTE(Q50,O51,P51) | AA51: ュ | AB51: ユ | AC51: =SUBSTITUTE(AC50,AA51,AB51)
C52: ョ | D52: ヨ | E52: =SUBSTITUTE(E51,C52,D52) | F52: =param!C14&" "&param!E14 | O52: ョ | P52: ヨ | Q52: =SUBSTITUTE(Q51,O52,P52) | R52: =param!C15&" "&param!E15 | AA52: ョ | AB52: ヨ | AC52: =SUBSTITUTE(AC51,AA52,AB52) | AD52: =param!C16&" "&param!E16

Sheet param
B1: 項目 | C1: 値
A2: C2 | B2: 注文者 | D2: B3 | E2: =注文者 &" 様"
A3: C3 | B3: 契約会社 | D3: H5 | E3: =契約会社
A4: C4 | B4: 契約ブランド | D4: H6 | E4: =契約ブランド&営業所
A5: C5 | B5: 営業所 | D5: H6 | E5: =契約ブランド&営業所
A6: C6 | B6: 営業所住所1 | D6: H7 | E6: =営業所住所1
A7: C7 | B7: 営業所住所2 | D7: H8 | E7: =営業所住所2
A8: C8 | B8: 電話番号 | D8: H9 | E8: =電話番号
A9: C9 | B9: FAX番号 | D9: J9 | E9: =FAX番号
A10: C10 | B10: 担当 | D10: H10 | E10: ="担当："&担当営業
A11: C11 | B11: 振込先 | D11: C24 | E11: =振込先
A12: C12 | B12: 契約会社 | D12: C26 | E12: =契約会社
A13: C13 | B13: 契約コード | D13: E33 | E13: =ASC(契約コード&大文字カナ名)
B14: お客様名1_姓 | D14: お客様名1_名
B15: お客様名2_姓 | D15: お客様名2_名
B16: お客様名3_姓 | D16: お客様名3_名
B17: お客様名1_姓カナ | D17: お客様名1_名カナ | G17: =LEN(C17) -> 0
B18: お客様名2_姓カナ | D18: お客様名2_名カナ | G18: =LEN(C18) -> 0
B19: お客様名3_姓カナ | D19: お客様名3_名カナ | G19: =LEN(C19) -> 0
B20: 施主数 | C20: =COUNTIF(G17:G19,">1") -> 0
