Workbook

Sheet 御提案書
A1: 御 提 案 書 | K1: 店長 | L1: 担当 | N1: 担当
A4: =param!C2 -> 0
A7: 建築場所 | K7: 作 成 日 | L7: =TODAY() -> 45255
A8: =param!C3 -> 0 | K8: 有効期限 | L8: 作成日より30日以内
A10: お客様現住所 | K10: =param!C6 -> 0
K11: =param!C7 -> 0 | M11: =param!C8 -> 0
A12: =param!C4 -> 0 | K12: =param!C9 -> 0
K13: =param!C10 -> 0
K14: =param!C11 -> 0 | M14: =param!C12 -> 0
A15: お客様連絡先 | C15: =param!C5 -> 0 | K15: お客様担当 | L15: =param!C13 -> 0
A17: 今回ご提案物件 | I17: =param!C14 -> 0
A18: (Ａ+Ｂ+ C + D) | F18: (建物坪単価 | K18: =param!C15 -> 0 | N18: )
A20: 構 造 | D20: 形 式 | H20: 外 部 仕 様 | L20: 内 部 仕 様
A21: =param!C16 -> 0 | D21: =param!C17 -> 0 | H21: =param!C18 -> 0 | L21: =param!C19 -> 0
A22: 施 工 面 積 | H22: 床 面 積
A23: 延 | B23: =param!C20 -> 0 | H23: 1F | I23: =param!C22 -> 0 | L23: 地下 | M23: =param!C25 -> 0
H24: 2F | I24: =param!C23 -> 0 | L24: PH | M24: =param!C28 -> 0
E25: =param!C21 -> 0 | H25: 3F | I25: =param!C24 -> 0 | L25: 計 | M25: =TEXT(param!C26,"0.00")&"㎡"&" ("&TEXT(param!C27,"0.00")&"坪)" -> 0.00㎡ (0.00坪)
A27: 予算内訳 | H27: 資金内訳（建物）
A28: Ａ．建物工事費 | D28: =param!C29 -> 0 | H28: 自己資金 | L28: =param!C45 -> 0
A29: Ｂ．追加変更工事費 | D29: =param!C30 -> 0 | H29: 融資 | L29: =param!C46 -> 0
A30: Ｃ．確定付帯工事費 | D30: =param!C31 -> 0
A31: =IF(D31<>0,"Ｄ．値引き","") | D31: =param!C32 -> 0 | H31: 資金内訳合計 | L31: =SUM(L28:L30) -> 0
H33: お支払い計画（建物）
H34: 契約時 | L34: =param!C49 -> 0
A35: Ｅ．預り金立替金 | D35: =param!C33 -> 0 | L35: =param!C50 -> 0
A36: 消費税等 | D36: =param!C35 -> 0 | H36: 着工時 | L36: =param!C51 -> 0
A37: 合 計 | D37: =param!C36 -> 0 | L37: =param!C52 -> 0
H38: 上棟時 | L38: =param!C53 -> 0
A39: Ｆ．土地代金 | D39: =param!C38 -> 0 | L39: =param!C54 -> 0
A40: Ｇ．土地関係費用 | D40: =param!C39 -> 0 | H40: 引き渡し時 | L40: =param!C55 -> 0
A41: G.消費税等 | D41: =param!C40 -> 0 | L41: =param!C56 -> 0
A43: 総費用合計 | D43: =param!C43 -> 0 | H43: お支払い合計 | L43: =param!C57 -> 0
H45: 備考
H46: =param!C58 -> 0

Sheet param
B1: 項目 | C1: 値
A2: C2 | B2: 注文者 | D2: A4 | E2: =注文者
A3: C3 | B3: 建上地_地名地番 | D3: A8 | E3: =IF(建上地_地名地番="","",建上地_地名地番)
A4: C4 | B4: お客様_現住所 | D4: A12 | E4: =お客様_現住所
A5: C5 | B5: お客様_電話番号 | D5: C15 | E5: =お客様_電話番号
A6: C6 | B6: 契約会社 | D6: K10 | E6: =契約会社
A7: C7 | B7: 契約ブランド | D7: K11 | E7: =契約ブランド
A8: C8 | B8: 営業所 | D8: M11 | E8: =営業所
A9: C9 | B9: 営業所住所1 | D9: K12 | E9: =営業所住所1
A10: C10 | B10: 営業所住所2 | D10: K13 | E10: =営業所住所2
A11: C11 | B11: 電話番号 | D11: K14 | E11: =電話番号
A12: C12 | B12: FAX番号 | D12: M14 | E12: =FAX番号
A13: C13 | B13: 担当営業 | D13: L15 | E13: =担当営業
... A27: C27 | B27: 延床面積_坪 | D27: M25 | E27: =延床面積_坪
A28: C28 | B28: PH階床面積
A29: C29 | B29: A.建物工事見積 | D29: D28 | E29: =A.建物工事見積
A30: C30 | B30: B.追加変更工事見積 | D30: D29 | E30: =B.追加変更工事見積
A31: C31 | B31: C.付帯工事見積 | D31: D30 | E31: =C.付帯工事見積
A32: C32 | B32: D.値引き | D32: D31 | E32: =D.値引き
A33: C33 | B33: E.預り金立替金 | D33: D35 | E33: =E.預り金立替金
A34: C34 | B34: 合計 | C34: =SUM(C29:C33) -> 0
A35: C35 | B35: 消費税等1 | C35: =ROUNDDOWN(C34*0.1,0) -> 0 | D35: D36 | E35: =基本入力!D137
A36: C36 | B36: 税込み合計 | C36: =C35+C34 -> 0 | D36: D37 | E36: =基本入力!D138
A37: C37
A38: C38 | B38: F.土地代金 | D38: D39 | E38: =F.土地代金
A39: C39 | B39: G.土地関係費用 | D39: D40 | E39: =G.土地関係費用
A40: C40 | B40: G.消費税等2 | C40: =ROUNDDOWN(C39*0.1,0) -> 0 | D40: D41 | E40: =基本入力!D143
A41: C41 | B41: 合計 | C41: =SUM(C38:C40) -> 0
A42: C42
A43: C43 | B43: 税込総費用合計 | C43: =C36+C41 -> 0 | D43: D43 | E43: =基本入力!D147
A44: C44
A45: C45 | B45: 自己資金 | C45: =D73 -> 0 | D45: L28 | E45: =自己資金
A46: C46 | B46: 融資 | C46: =D74+D75+D76 -> 0 | D46: L29 | E46: =基本入力!J48+基本入力!J49+基本入力!J50
A47: C47 | B47: 資金内訳合計 | C47: =SUM(C45:C46) -> 0
A48: C48
A49: C49 | B49: 支払金額1 | C49: =D64 -> 0 | D49: L34 | E49: =支払金額1
A50: C50 | B50: 支払金額2 | C50: =D65 -> 0 | D50: L35 | E50: =支払金額2
A51: C51 | B51: 支払金額3 | C51: =D66 -> 0 | D51: L36 | E51: =支払金額3
A52: C52 | B52: 支払金額4 | C52: =D67 -> 0 | D52: L37 | E52: =支払金額4
A53: C53 | B53: 支払金額5 | C53: =D68 -> 0 | D53: L38 | E53: =支払金額5
...
