Workbook

Sheet 請負代金内訳書
A1: 請 負 代 金 内 訳 書
A3: =param!C2 -> 0
A5: 建築場所
A6: =param!C3 -> 0
A8: お客様現住所 | F8: 店 長 | G8: 担当 | H8: 担当
A9: =param!C4 -> 0
A11: お客様連絡先
A13: =param!C5 -> 0
F14: 契約日 | G14: =param!C20 -> 0 | J14: 2025/7/12 作成日→契約日へ仕様変更
F15: 有効期限 | G15: 契約日より30日以内
A18: 明 細 内 訳
A19: Ａ．建物工事見積 | C19: =param!C7 -> 0
A20: Ｂ．追加変更工事見積 | C20: =param!C8 -> 0
A21: Ｃ．付帯工事見積 | C21: =param!C9 -> 0
A22: =IF(C22<0,"Ｄ．値引き","") | C22: =param!C10 -> 0
A23: 小計 | C23: =SUM(C19:F22) -> 0
A24: 消費税等 | C24: =ROUNDDOWN(C23*K24,0) -> 0 | J24: 消費税 | K24: 0.1
A25: ご契約金額 | C25: =C23+C24 -> 0
A36: =param!C12 -> 0
A37: =param!C13 -> 0 | B37: =param!C14 -> 0 | C37: =param!C15 -> 0 | G37: =param!C17 -> 0
C38: =param!C16 -> 0 | G38: =param!C18 -> 0
F39: お客様担当 | G39: =param!C19 -> 0

Sheet param
B1: 項目 | C1: 値
A2: C2 | B2: 注文者 | D2: A3 | E2: =注文者
A3: C3 | B3: 建上地_地名地番 | D3: A6 | E3: =IF(建上地_地名地番="","",建上地_地名地番)
A4: C4 | B4: お客様_現住所 | D4: A9 | E4: =お客様_現住所
A5: C5 | B5: お客様_電話番号 | D5: A13 | E5: =お客様_電話番号
A7: C7 | B7: A.建物工事見積 | D7: C19 | E7: =A.建物工事見積
A8: C8 | B8: B.追加変更工事見積 | D8: C20 | E8: =B.追加変更工事見積
A9: C9 | B9: C.付帯工事見積 | D9: C21 | E9: =C.付帯工事見積
A10: C10 | B10: D.値引き | D10: C22 | E10: =D.値引き
A12: C12 | B12: 契約会社 | D12: A36 | E12: =契約会社
A13: C13 | B13: 契約ブランド | D13: A37 | E13: =契約ブランド
A14: C14 | B14: 営業所 | D14: B37 | E14: =営業所
A15: C15 | B15: 営業所住所1 | D15: C37 | E15: =営業所住所1
... A21: C20 | B21: 契約日 | D21: G14 | E21: 契約日
