Workbook

Sheet 建設工事請負契約書
A1: 建 築 工 事 請 負 契 約 書
A3: 発注者 | B3: =param!C2 -> 0
A4: 顧客コード | B4: =param!C4 -> 0 | D4: 契約コード | F4: =param!C3 -> 0
A5: 店舗 | B5: =param!C5 -> 0 | D5: 担当営業 | F5: =param!C6 -> 0
A6: 工事件名 | B6: =param!C7 -> 0
A7: 構造 | B7: =param!C8 -> 0 | D7: 形式 | F7: =param!C9 -> 0
A8: 建物 | B8: 1階 | C8: =param!C10 -> 0 | D8: 2階 | E8: =param!C11 -> 0 | F8: 3階 | G8: =param!C12 -> 0 | H8: 延床 | I8: =param!C14 -> 0
A9: 床面積 | D9: 地下 | E9: =param!C13 -> 0 | F9: PH階 | G9: =param!C27 -> 0 | H9: (坪) | I9: =param!C15 -> 0
A10: 建築場所 | B10: =param!C16 -> 0
A12: 工期 | B12: 着 工 | C12: =IF(J12<>0,"（"&J12&"の予定）","") | J12: =param!C17 -> 0
B13: 完 成 | C13: =IF(J13<>0,"（"&J13&"の予定）","") | J13: =param!C18 -> 0
A14: 工事の追加・変更 お申し出期限 | B14: =IF(J14<>0,J14&" までにお申し出願います.","") | J14: =param!C19 -> 0 | K14: ※契約日の30日後
A15: 請負代金 | B15: 金 | C15: =param!C20 -> 0 | F15: =param!C21 -> 0
A16: 支払方法 | B16: 支払方法 | E16: 金額 | G16: 支払時期
B17: 契約金 | C17: =param!C31 -> 0 | E17: =param!F31 -> 0 | G17: =param!O31 | J17: 支払金額および支払予定日が記載されている場合のみ、支払時期が表示されます
C18: =param!C32 -> 0 | E18: =param!F32 -> 0 | G18: =param!O32
B19: 着工金 | C19: =param!C33 -> 0 | E19: =param!F33 -> 0 | G19: =param!O33
C20: =param!C34 -> 0 | E20: =param!F34 -> 0 | G20: =param!O34
B21: 中間金 | C21: =param!C35 -> 0 | E21: =param!F35 -> 0 | G21: =param!O35
C22: =param!C36 -> 0 | E22: =param!F36 -> 0 | G22: =param!O36
B23: 最終金 | C23: =param!C37 -> 0 | E23: =param!F37 -> 0 | G23: =param!O37
C24: =param!C38 -> 0 | E24: =param!F38 -> 0 | G24: =param!O38
A25: その他 | B25: =param!C22 -> 0
A27: =K27&"（以下、甲という）と"&K28&"（以下、乙という）とは、" -> （以下、甲という）と （以下、乙という）とは、 | J27: 工事名 | K27: =IF(param!C2<>"",param!C2," ")
A28: 標記物件の工事（以下、工事という）請負について、本契約を維持し、その証として本書を２部作成し、 | J28: 契約会社 | K28: =IF(param!C23<>"",param!C23," ")
A29: 甲乙記名捺印の上、各自１通を保存します。

Sheet param
B1: 項目 | C1: 値
A2: C2 | B2: 注文者 | D2: B3 | E2: =IF(注文者="","",注文者&" 様")
A3: C3 | B3: 契約コード | D3: G4 | E3: =IF(契約コード="","",契約コード)
A4: C4 | B4: 顧客コード | D4: B4 | E4: =IF(顧客コード="","",顧客コード)
A5: C5 | B5: 契約営業所 | D5: B5 | E5: =IF(契約営業所="","",契約営業所)
A6: C6 | B6: 担当営業 | D6: G5 | E6: =IF(担当営業２="",担当営業,担当営業&"／"&担当営業２)
A7: C7 | B7: 工事名 | D7: B6 | E7: =IF(工事名="","",工事名&" 様邸 新築工事")
A8: C8 | B8: 構造&RW_LVL | D8: B7 | E8: =IF(構造="","",構造&"("&RW_LVL&")")
A9: C9 | B9: 契約ブランド&シリーズ | D9: G7 | E9: =IF(契約ブランド="","",契約ブランド&" "&シリーズ)
A10: C10 | B10: １F床面積 | D10: C8 | E10: =IF(_１F床面積="","",_１F床面積)
A11: C11 | B11: ２F床面積 | D11: C9 | E11: =IF(_２F床面積="","",_２F床面積)
A12: C12 | B12: ３F床面積 | D12: F8 | E12: =IF(_３F床面積="","",_３F床面積)
A13: C13 | B13: 地下面積 | D13: H8 | E13: =IF(地下面積="","","地下 "&TEXT(地下面積,"0.00")&" ㎡ ")
... A23: C23 | B23: 契約会社 | D23: A26 | E23: =工事名&" 様 （以下、甲という）と"&契約会社&" （以下、乙という）とは、"
A27: C27 | B27: PH階床面積
F30: F | I30: I | K30: K | M30: M | O30: O
A31: C31 | B31: 支払方法1 | D31: C17 | E31: 支払金額1 | G31: F17 | H31: 支払日1 | J31: 支払日任意1 | L31: 支払状況1 | O31: =IF(F31<>"",IF(I31<>"",I31&IF(M31<>"","("&M31&")",""),IF(K31<>"",K31&IF(M31<>"","("&M31&")",""),"")),"") | Q31: H17
A32: C32 | B32: 支払方法2 | D32: C18 | E32: 支払金額2 | G32: F18 | H32: 支払日2 | J32: 支払日任意2 | L32: 支払状況2 | O32: =IF(F32<>"",IF(I32<>"",I32&IF(M32<>"","("&M32&")",""),IF(K32<>"",K32&IF(M32<>"","("&M32&")",""),"")),"") | Q32: H18
A33: C33 | B33: 支払方法3 | D33: C19 | E33: 支払金額3 | G33: F19 | H33: 支払日3 | J33: 支払日任意3 | L33: 支払状況3 | O33: =IF(F33<>"",IF(I33<>"",I33&IF(M33<>"","("&M33&")",""),IF(K33<>"",K33&IF(M33<>"","("&M33&")",""),"")),"") | Q33: H19
A34: C34 | B34: 支払方法4 | D34: C20 | E34: 支払金額4 | G34: F20 | H34: 支払日4 | J34: 支払日任意4 | L34: 支払状況4 | O34: =IF(F34<>"",IF(I34<>"",I34&IF(M34<>"","("&M34&")",""),IF(K34<>"",K34&IF(M34<>"","("&M34&")",""),"")),"") | Q34: H20
A35: C35 | B35: 支払方法5 | D35: C21 | E35: 支払金額5 | G35: F21 | H35: 支払日5 | J35: 支払日任意5 | L35: 支払状況5 | O35: =IF(F35<>"",IF(I35<>"",I35&IF(M35<>"","("&M35&")",""),IF(K35<>"",K35&IF(M35<>"","("&M35&")",""),"")),"") | Q35: H21
A36: C36 | B36: 支払方法6 | D36: C22 | E36: 支払金額6 | G36: F22 | H36: 支払日6 | J36: 支払日任意6 | L36: 支払状況6 | O36: =IF(F36<>"",IF(I36<>"",I36&IF(M36<>"","("&M36&")",""),IF(K36<>"",K36&IF(M36<>"","("&M36&")",""),"")),"") | Q36: H22
A37: C37 | B37: 支払方法7 | D37: C23 | E37: 支払金額7 | G37: F23 | H37: 支払日7 | J37: 支払日任意7 | L37: 支払状況7 | O37: =IF(F37<>"",IF(I37<>"",I37&IF(M37<>"","("&M37&")",""),IF(K37<>"",K37&IF(M37<>"","("&M37&")",""),"")),"") | Q37: H23
A38: C38 | B38: 支払方法8 | D38: C24 | E38: 支払金額8 | G38: F24 | H38: 支払日8 | J38: 支払日任意8 | L38: 支払状況8 | O38: =IF(F38<>"",IF(I38<>"",I38&IF(M38<>"","("&M38&")",""),IF(K38<>"",K38&IF(M38<>"","("&M38&")",""),"")),"") | Q38: H24
