Workbook
Name 見積根拠: 追加変更工事契約書!$W$23:$W$30
Name 打合せ種別: 追加変更工事契約書!$Y$23:$Y$25

Sheet 追加変更工事契約書
P2: =IF(T9=0,"□ 電子契約 ","☑ 電子契約 ") -> □ 電子契約 | S2: 電子契約ではない場合は□ 電子契約の場合は☑となる
C3: =param!C7 -> 0
C4: =param!C8 -> 0 | P4: 印 紙
C5: =param!C6 -> 0
C6: ="代表取締役 "&param!C9 -> 代表取締役 | G6: NG項目があります | T6: =COUNTIF(L22:M36:T15,"NG!") -> 1
C9: 追加変更工事契約書 | S9: 電子契約： | T9: =param!C14 -> 0
T10: プリザンター上で選択する
C11: 顧客コード | D11: =param!C2 -> 0 | N11: 担当者 | O11: =param!C11 -> 0 | Q11: 印
C13: 契約コード | D13: =param!C3 -> 0 | O13: NO. | P13: =param!C12 -> 0
B15: 件名 | D15: =param!C4 -> 0 | L15: 担当営業所 | N15: =param!C10 -> 0 | T15: =IF(D18=0,"NG!",0) -> NG! | U15: =IF(D18=0,"打合せ種別が選択されていません","") -> 打合せ種別が選択されていません
B16: 建築場所 | D16: =param!C5 -> 0
B17: 日時 | D17: =param!C15 -> 0 | L17: 場所 | M17: =param!D16 -> 0 | S17: ・「備考欄」に「非課税」と入れると消費税を計算せずに加算される
B18: 打合せ種別 | D18: =param!D17 -> 0 | G18: =IF(D18=0,"選択必須!","") -> 選択必須! | S18: ・項目欄が空欄の場合は無視
B19: 参加者 | D19: =param!C18 -> 0 | S19: ・番号と根拠が両方入ってたら、見積番号優先
C21: 種別 | D21: 項 目 （品番記入） | L21: 見積番号 | N21: 金額 | P21: 備考 | S21: ↓ | T21: 見積番号 | U21: 見積根拠 | V21: 項目チェック
C22: =IF(param!C21<>"",param!C21,"") | D22: =IF(param!D21<>"",param!D21,"") | E22: =IF(param!E21<>"",param!E21,"") | F22: =IF(param!F21<>"",param!F21,"") | G22: =IF(param!G21<>"",param!G21,"") | H22: =IF(param!H21<>"",param!H21,"") | I22: =IF(param!I21<>"",param!I21,"") | J22: =IF(param!J21<>"",param!J21,"") | K22: =IF(param!K21<>"",param!K21,"") | L22: =IF(D22<>"",IF(T22<>"",T22,IF(U22<>"",IF(U22="備考","",U22),"NG!")),"") | N22: =IF(param!G21<>"",param!G21,"") | P22: =IF(param!H21<>"",param!H21,"") | S22: =IF(D22="","",IF(T22<>"","番号OK!",IF(U22="","NG!!","根拠OK!"))) | T22: =IF(param!E21<>"",param!E21,"") | U22: =IF(param!F21<>"",param!F21,"") | V22: =LEN(D22) -> 0 | W22: 見積根拠 | Y22: 打合せ種別 | AA22: 場所
C23: =IF(param!C22<>"",param!C22,"") | D23: =IF(param!D22<>"",param!D22,"") | E23: =IF(param!E22<>"",param!E22,"") | F23: =IF(param!F22<>"",param!F22,"") | G23: =IF(param!G22<>"",param!G22,"") | H23: =IF(param!H22<>"",param!H22,"") | I23: =IF(param!I22<>"",param!I22,"") | J23: =IF(param!J22<>"",param!J22,"") | K23: =IF(param!K22<>"",param!K22,"") | L23: =IF(D23<>"",IF(T23<>"",T23,IF(U23<>"",IF(U23="備考","",U23),"NG!")),"") | N23: =IF(param!G22<>"",param!G22,"") | P23: =IF(param!H22<>"",param!H22,"") | S23: =IF(D23="","",IF(T23<>"","番号OK!",IF(U23="","NG!!","根拠OK!"))) | T23: =IF(param!E22<>"",param!E22,"") | U23: =IF(param!F22<>"",param!F22,"") | V23: =LEN(D23) -> 0 | W23: 簡易積算 | Y23: 本契約～承認図 | AA23: 展示場
C24: =IF(param!C23<>"",param!C23,"") | D24: =IF(param!D23<>"",param!D23,"") | E24: =IF(param!E23<>"",param!E23,"") | F24: =IF(param!F23<>"",param!F23,"") | G24: =IF(param!G23<>"",param!G23,"") | H24: =IF(param!H23<>"",param!H23,"") | I24: =IF(param!I23<>"",param!I23,"") | J24: =IF(param!J23<>"",param!J23,"") | K24: =IF(param!K23<>"",param!K23,"") | L24: =IF(D24<>"",IF(T24<>"",T24,IF(U24<>"",IF(U24="備考","",U24),"NG!")),"") | N24: =IF(param!G23<>"",param!G23,"") | P24: =IF(param!H23<>"",param!H23,"") | S24: =IF(D24="","",IF(T24<>"","番号OK!",IF(U24="","NG!!","根拠OK!"))) | T24: =IF(param!E23<>"",param!E23,"") | U24: =IF(param!F23<>"",param!F23,"") | V24: =LEN(D24) -> 0 | W24: 単価表 | Y24: 承認図～ご確認書 | AA24: 現場
C25: =IF(param!C24<>"",param!C24,"") | D25: =IF(param!D24<>"",param!D24,"") | E25: =IF(param!E24<>"",param!E24,"") | F25: =IF(param!F24<>"",param!F24,"") | G25: =IF(param!G24<>"",param!G24,"") | H25: =IF(param!H24<>"",param!H24,"") | I25: =IF(param!I24<>"",param!I24,"") | J25: =IF(param!J24<>"",param!J24,"") | K25: =IF(param!K24<>"",param!K24,"") | L25: =IF(D25<>"",IF(T25<>"",T25,IF(U25<>"",IF(U25="備考","",U25),"NG!")),"") | N25: =IF(param!G24<>"",param!G24,"") | P25: =IF(param!H24<>"",param!H24,"") | S25: =IF(D25="","",IF(T25<>"","番号OK!",IF(U25="","NG!!","根拠OK!"))) | T25: =IF(param!E24<>"",param!E24,"") | U25: =IF(param!F24<>"",param!F24,"") | V25: =LEN(D25) -> 0 | W25: 定価掛率 | Y25: ご確認書以降～ | AA25: お客様宅
C26: =IF(param!C25<>"",param!C25,"") | D26: =IF(param!D25<>"",param!D25,"") | E26: =IF(param!E25<>"",param!E25,"") | F26: =IF(param!F25<>"",param!F25,"") | G26: =IF(param!G25<>"",param!G25,"") | H26: =IF(param!H25<>"",param!H25,"") | I26: =IF(param!I25<>"",param!I25,"") | J26: =IF(param!J25<>"",param!J25,"") | K26: =IF(param!K25<>"",param!K25,"") | L26: =IF(D26<>"",IF(T26<>"",T26,IF(U26<>"",IF(U26="備考","",U26),"NG!")),"") | N26: =IF(param!G25<>"",param!G25,"") | P26: =IF(param!H25<>"",param!H25,"") | S26: =IF(D26="","",IF(T26<>"","番号OK!",IF(U26="","NG!!","根拠OK!"))) | T26: =IF(param!E25<>"",param!E25,"") | U26: =IF(param!F25<>"",param!F25,"") | V26: =LEN(D26) -> 0 | W26: 業者見積 | AA26: その他
C27: =IF(param!C26<>"",param!C26,"") | D27: =IF(param!D26<>"",param!D26,"") | E27: =IF(param!E26<>"",param!E26,"") | F27: =IF(param!F26<>"",param!F26,"") | G27: =IF(param!G26<>"",param!G26,"") | H27: =IF(param!H26<>"",param!H26,"") | I27: =IF(param!I26<>"",param!I26,"") | J27: =IF(param!J26<>"",param!J26,"") | K27: =IF(param!K26<>"",param!K26,"") | L27: =IF(D27<>"",IF(T27<>"",T27,IF(U27<>"",IF(U27="備考","",U27),"NG!")),"") | N27: =IF(param!G26<>"",param!G26,"") | P27: =IF(param!H26<>"",param!H26,"") | S27: =IF(D27="","",IF(T27<>"","番号OK!",IF(U27="","NG!!","根拠OK!"))) | T27: =IF(param!E26<>"",param!E26,"") | U27: =IF(param!F26<>"",param!F26,"") | V27: =LEN(D27) -> 0 | W27: 定義書 | Y27: 参加者
C28: =IF(param!C27<>"",param!C27,"") | D28: =IF(param!D27<>"",param!D27,"") | E28: =IF(param!E27<>"",param!E27,"") | F28: =IF(param!F27<>"",param!F27,"") | G28: =IF(param!G27<>"",param!G27,"") | H28: =IF(param!H27<>"",param!H27,"") | I28: =IF(param!I27<>"",param!I27,"") | J28: =IF(param!J27<>"",param!J27,"") | K28: =IF(param!K27<>"",param!K27,"") | L28: =IF(D28<>"",IF(T28<>"",T28,IF(U28<>"",IF(U28="備考","",U28),"NG!")),"") | N28: =IF(param!G27<>"",param!G27,"") | P28: =IF(param!H27<>"",param!H27,"") | S28: =IF(D28="","",IF(T28<>"","番号OK!",IF(U28="","NG!!","根拠OK!"))) | T28: =IF(param!E27<>"",param!E27,"") | U28: =IF(param!F27<>"",param!F27,"") | V28: =LEN(D28) -> 0 | W28: 工務部見積
C29: =IF(param!C28<>"",param!C28,"") | D29: =IF(param!D28<>"",param!D28,"") | E29: =IF(param!E28<>"",param!E28,"") | F29: =IF(param!F28<>"",param!F28,"") | G29: =IF(param!G28<>"",param!G28,"") | H29: =IF(param!H28<>"",param!H28,"") | I29: =IF(param!I28<>"",param!I28,"") | J29: =IF(param!J28<>"",param!J28,"") | K29: =IF(param!K28<>"",param!K28,"") | L29: =IF(D29<>"",IF(T29<>"",T29,IF(U29<>"",IF(U29="備考","",U29),"NG!")),"") | N29: =IF(param!G28<>"",param!G28,"") | P29: =IF(param!H28<>"",param!H28,"") | S29: =IF(D29="","",IF(T29<>"","番号OK!",IF(U29="","NG!!","根拠OK!"))) | T29: =IF(param!E28<>"",param!E28,"") | U29: =IF(param!F28<>"",param!F28,"") | V29: =LEN(D29) -> 0 | W29: 備考
C30: =IF(param!C29<>"",param!C29,"") | D30: =IF(param!D29<>"",param!D29,"") | E30: =IF(param!E29<>"",param!E29,"") | F30: =IF(param!F29<>"",param!F29,"") | G30: =IF(param!G29<>"",param!G29,"") | H30: =IF(param!H29<>"",param!H29,"") | I30: =IF(param!I29<>"",param!I29,"") | J30: =IF(param!J29<>"",param!J29,"") | K30: =IF(param!K29<>"",param!K29,"") | L30: =IF(D30<>"",IF(T30<>"",T30,IF(U30<>"",IF(U30="備考","",U30),"NG!")),"") | N30: =IF(param!G29<>"",param!G29,"") | P30: =IF(param!H29<>"",param!H29,"") | S30: =IF(D30="","",IF(T30<>"","番号OK!",IF(U30="","NG!!","根拠OK!"))) | T30: =IF(param!E29<>"",param!E29,"") | U30: =IF(param!F29<>"",param!F29,"") | V30: =LEN(D30) -> 0 | W30: 別紙明細 | X30: ←ICの別明細利用時
C31: =IF(param!C30<>"",param!C30,"") | D31: =IF(param!D30<>"",param!D30,"") | E31: =IF(param!E30<>"",param!E30,"") | F31: =IF(param!F30<>"",param!F30,"") | G31: =IF(param!G30<>"",param!G30,"") | H31: =IF(param!H30<>"",param!H30,"") | I31: =IF(param!I30<>"",param!I30,"") | J31: =IF(param!J30<>"",param!J30,"") | K31: =IF(param!K30<>"",param!K30,"") | L31: =IF(D31<>"",IF(T31<>"",T31,IF(U31<>"",IF(U31="備考","",U31),"NG!")),"") | N31: =IF(param!G30<>"",param!G30,"") | P31: =IF(param!H30<>"",param!H30,"") | S31: =IF(D31="","",IF(T31<>"","番号OK!",IF(U31="","NG!!","根拠OK!"))) | T31: =IF(param!E30<>"",param!E30,"") | U31: =IF(param!F30<>"",param!F30,"") | V31: =LEN(D31) -> 0 | W31: 10 | X31: ←10万円以下問い合わせ不要ルール使用時
C32: =IF(param!C31<>"",param!C31,"") | D32: =IF(param!D31<>"",param!D31,"") | E32: =IF(param!E31<>"",param!E31,"") | F32: =IF(param!F31<>"",param!F31,"") | G32: =IF(param!G31<>"",param!G31,"") | H32: =IF(param!H31<>"",param!H31,"") | I32: =IF(param!I31<>"",param!I31,"") | J32: =IF(param!J31<>"",param!J31,"") | K32: =IF(param!K31<>"",param!K31,"") | L32: =IF(D32<>"",IF(T32<>"",T32,IF(U32<>"",IF(U32="備考","",U32),"NG!")),"") | N32: =IF(param!G31<>"",param!G31,"") | P32: =IF(param!H31<>"",param!H31,"") | S32: =IF(D32="","",IF(T32<>"","番号OK!",IF(U32="","NG!!","根拠OK!"))) | T32: =IF(param!E31<>"",param!E31,"") | U32: =IF(param!F31<>"",param!F31,"") | V32: =LEN(D32) -> 0
C33: =IF(param!C32<>"",param!C32,"") | D33: =IF(param!D32<>"",param!D32,"") | E33: =IF(param!E32<>"",param!E32,"") | F33: =IF(param!F32<>"",param!F32,"") | G33: =IF(param!G32<>"",param!G32,"") | H33: =IF(param!H32<>"",param!H32,"") | I33: =IF(param!I32<>"",param!I32,"") | J33: =IF(param!J32<>"",param!J32,"") | K33: =IF(param!K32<>"",param!K32,"") | L33: =IF(D33<>"",IF(T33<>"",T33,IF(U33<>"",IF(U33="備考","",U33),"NG!")),"") | N33: =IF(param!G32<>"",param!G32,"") | P33: =IF(param!H32<>"",param!H32,"") | S33: =IF(D33="","",IF(T33<>"","番号OK!",IF(U33="","NG!!","根拠OK!"))) | T33: =IF(param!E32<>"",param!E32,"") | U33: =IF(param!F32<>"",param!F32,"") | V33: =LEN(D33) -> 0
C34: =IF(param!C33<>"",param!C33,"") | D34: =IF(param!D33<>"",param!D33,"") | E34: =IF(param!E33<>"",param!E33,"") | F34: =IF(param!F33<>"",param!F33,"") | G34: =IF(param!G33<>"",param!G33,"") | H34: =IF(param!H33<>"",param!H33,"") | I34: =IF(param!I33<>"",param!I33,"") | J34: =IF(param!J33<>"",param!J33,"") | K34: =IF(param!K33<>"",param!K33,"") | L34: =IF(D34<>"",IF(T34<>"",T34,IF(U34<>"",IF(U34="備考","",U34),"NG!")),"") | N34: =IF(param!G33<>"",param!G33,"") | P34: =IF(param!H33<>"",param!H33,"") | S34: =IF(D34="","",IF(T34<>"","番号OK!",IF(U34="","NG!!","根拠OK!"))) | T34: =IF(param!E33<>"",param!E33,"") | U34: =IF(param!F33<>"",param!F33,"") | V34: =LEN(D34) -> 0
C35: =IF(param!C34<>"",param!C34,"") | D35: =IF(param!D34<>"",param!D34,"") | E35: =IF(param!E34<>"",param!E34,"") | F35: =IF(param!F34<>"",param!F34,"") | G35: =IF(param!G34<>"",param!G34,"") | H35: =IF(param!H34<>"",param!H34,"") | I35: =IF(param!I34<>"",param!I34,"") | J35: =IF(param!J34<>"",param!J34,"") | K35: =IF(param!K34<>"",param!K34,"") | L35: =IF(D35<>"",IF(T35<>"",T35,IF(U35<>"",IF(U35="備考","",U35),"NG!")),"") | N35: =IF(param!G34<>"",param!G34,"") | P35: =IF(param!H34<>"",param!H34,"") | S35: =IF(D35="","",IF(T35<>"","番号OK!",IF(U35="","NG!!","根拠OK!"))) | T35: =IF(param!E34<>"",param!E34,"") | U35: =IF(param!F34<>"",param!F34,"") | V35: =LEN(D35) -> 0
C36: =IF(param!C35<>"",param!C35,"") | D36: =IF(param!D35<>"",param!D35,"") | E36: =IF(param!E35<>"",param!E35,"") | F36: =IF(param!F35<>"",param!F35,"") | G36: =IF(param!G35<>"",param!G35,"") | H36: =IF(param!H35<>"",param!H35,"") | I36: =IF(param!I35<>"",param!I35,"") | J36: =IF(param!J35<>"",param!J35,"") | K36: =IF(param!K35<>"",param!K35,"") | L36: =IF(D36<>"",IF(T36<>"",T36,IF(U36<>"",IF(U36="備考","",U36),"NG!")),"") | N36: =IF(param!G35<>"",param!G35,"") | P36: =IF(param!H35<>"",param!H35,"") | S36: =IF(D36="","",IF(T36<>"","番号OK!",IF(U36="","NG!!","根拠OK!"))) | T36: =IF(param!E35<>"",param!E35,"") | U36: =IF(param!F35<>"",param!F35,"") | V36: =LEN(D36) -> 0
C37: 小 計 | N37: =IF(SUM(V22:V36)=0,"",SUM(N22:O36)) | U37: ↑手入力可能
C38: 消費税 | N38: =IF(SUM(V22:V36)=0,"",ROUNDDOWN(SUMIF(P22:P36,"<>非課税",N22:O36)*P38,0)) | P38: =param!C19 -> 0.1
C39: 合 計 | N39: =IF(SUM(V22:V36)=0,"",N37+N38)
C41: 入金予定日 | E41: 最終金残金時 | I41: 予定
K43: 日付（西暦）
K45: 氏名 | Q45: 印
C48: ※お振込は下記の口座にお願い致します。 | H48: 担当営業 | J48: 担当IC | L48: 営業設計 | N48: 管理設計 | P48: 担当監督
C49: =param!C13 -> 0 | H49: =param!C38 -> 0 | J49: =param!C39 -> 0 | L49: =param!C40 -> 0 | N49: =param!C41 -> 0 | P49: =param!C42 -> 0 | S49: 各担当者はメインレコードから参照
C50: =param!C6 -> 0 | S50: 印刷前に変更OK

Sheet param
C1: 値
A2: C2 | B2: 顧客コード | D2: =顧客コード | F2: 0
A3: C3 | B3: 契約コード | D3: =契約コード | F3: 1 | G3: 展示場
A4: C4 | B4: 工事名 | D4: =工事名 | F4: 2 | G4: 現場
A5: C5 | B5: 建築場所 | D5: =建上地_地名地番 | F5: 3 | G5: お客様宅
A6: C6 | B6: 契約会社 | D6: =契約会社 | F6: 4 | G6: その他
A7: C7 | B7: 契約会社_住所 | D7: =契約会社_住所
A8: C8 | B8: 契約会社_電話番号 | D8: =契約会社_電話番号 | F8: 0
A9: C9 | B9: 代表取締役 | F9: 1 | G9: 本契約～承認図
A10: C10 | B10: 契約営業所 | F10: 2 | G10: 承認図～ご確認書
A11: C11 | B11: 担当者 | F11: 3 | G11: ご確認書以降～
A12: C12 | B12: シート番号
A13: C13 | B13: 振込先 | D13: =振込先
A14: C14 | B14: 電子契約
A15: C15 | B15: 日時
A16: C16 | B16: 場所 | D16: =VLOOKUP(C16,F2:G6,2,FALSE) -> 0
A17: C17 | B17: 打合せ種別 | D17: =VLOOKUP(C17,F8:G11,2,FALSE) -> 0
A18: C18 | B18: 参加者
A19: C19 | B19: 消費税 | C19: 0.1
C20: 種別 | D20: 項目 | E20: 見積番号 | F20: 見積根拠 | G20: 金額 | H20: 備考
A21: C21 | B21: 項目#1
A22: C22 | B22: 項目#2
A23: C23 | B23: 項目#3
A24: C24 | B24: 項目#4
A25: C25 | B25: 項目#5
A26: C26 | B26: 項目#6
A27: C27 | B27: 項目#7
A28: C28 | B28: 項目#8
A29: C29 | B29: 項目#9
A30: C30 | B30: 項目#10
A31: C31 | B31: 項目#11
A32: C32 | B32: 項目#12
... A35: C35 | B35: 項目#15
A36: C36
A37: C37
A38: C38 | B38: 担当営業
A39: C39 | B39: 担当IC
A40: C40 | B40: 営業設計
A41: C41 | B41: 管理設計
A42: C42 | B42: 担当監督
A43: C43
A44: C44
