Workbook

Sheet 御確認書
C2: ="顧客コード:"&param!C2 -> 顧客コード: | G2: 会社控え
C3: ="契約コード:"&param!C3 -> 契約コード: | G3: =TODAY() -> 45421
C4: =param!C4 -> 0 | G4: =param!C6 -> 0
G5: =param!C7 -> 0
C6: 建築場所 | D6: =param!C5 -> 0 | G6: =param!C8 -> 0
G7: =param!C9&" "&param!C10
B8: 御 確 認 書
C10: 請負契約書 金額 | G10: =IF(param!C13<>"",param!C13,"") -> 0
C11: 項目 | D11: 契約時予定入金額 | F11: 入金完了日 | G11: 入金額
C12: 契約時 | D12: =param!G14 -> 0 | E12: ご入金日 | F12: =IF(param!C14<>"",param!C14,"") | G12: =IF(param!E14<>"",param!E14,"") -> 0
D13: =param!G15 -> 0 | E13: ご入金日 | F13: =IF(param!C15<>"",param!C15,"") | G13: =IF(param!E15<>"",param!E15,"") -> 0
C14: 中間金１ | D14: =param!G16 -> 0 | E14: ご入金日 | F14: =IF(param!C16<>"",param!C16,"") | G14: =IF(param!E16<>"",param!E16,"") -> 0
D15: =param!G17 -> 0 | E15: ご入金日 | F15: =IF(param!C17<>"",param!C17,"") | G15: =IF(param!E17<>"",param!E17,"") -> 0
C16: 中間金２ | D16: =param!G18 -> 0 | E16: ご入金日 | F16: =IF(param!C18<>"",param!C18,"") | G16: =IF(param!E18<>"",param!E18,"") -> 0
D17: =param!G19 -> 0 | E17: ご入金日 | F17: =IF(param!C19<>"",param!C19,"") | G17: =IF(param!E19<>"",param!E19,"") -> 0
C18: A 請負契約残金額 | G18: =G10-SUM(G12:G17) -> 0
G19: （※すべて税込）
C20: 追加・変更契約書 金額
G21: =param!C20 -> 0
C22: NO1 | D22: =IF(param!E21<>"",param!E21,"") | E22: ご確認日 | F22: =IF(param!G21<>"",param!G21,"") | G22: =param!C21 -> 0
C23: NO2 | D23: =IF(param!E22<>"",param!E22,"") | E23: ご確認日 | F23: =IF(param!G22<>"",param!G22,"") | G23: =param!C22 -> 0
C24: NO3 | D24: =IF(param!E23<>"",param!E23,"") | E24: ご確認日 | F24: =IF(param!G23<>"",param!G23,"") | G24: =param!C23 -> 0
C25: NO4 | D25: =IF(param!E24<>"",param!E24,"") | E25: ご確認日 | F25: =IF(param!G24<>"",param!G24,"") | G25: =param!C24 -> 0
C26: NO5 | D26: =IF(param!E25<>"",param!E25,"") | E26: ご確認日 | F26: =IF(param!G25<>"",param!G25,"") | G26: =param!C25 -> 0
C27: NO6 | D27: =IF(param!E26<>"",param!E26,"") | E27: ご確認日 | F27: =IF(param!G26<>"",param!G26,"") | G27: =param!C26 -> 0
C28: NO7 | D28: =IF(param!E27<>"",param!E27,"") | E28: ご確認日 | F28: =IF(param!G27<>"",param!G27,"") | G28: =param!C27 -> 0
C29: NO8 | D29: =IF(param!E28<>"",param!E28,"") | E29: ご確認日 | F29: =IF(param!G28<>"",param!G28,"") | G29: =param!C28 -> 0
C30: NO9 | D30: =IF(param!E29<>"",param!E29,"") | E30: ご確認日 | F30: =IF(param!G29<>"",param!G29,"") | G30: =param!C29 -> 0
C31: NO10 | D31: =IF(param!E30<>"",param!E30,"") | E31: ご確認日 | F31: =IF(param!G30<>"",param!G30,"") | G31: =param!C30 -> 0
C32: NO11 | D32: =IF(param!E31<>"",param!E31,"") | E32: ご確認日 | F32: =IF(param!G31<>"",param!G31,"") | G32: =param!C31 -> 0
C33: NO12 | D33: =IF(param!E32<>"",param!E32,"") | E33: ご確認日 | F33: =IF(param!G32<>"",param!G32,"") | G33: =param!C32 -> 0
... C41: NO20 | D41: =IF(param!E40<>"",param!E40,"") | E41: ご確認日 | F41: =IF(param!G40<>"",param!G40,"") | G41: =param!C40 -> 0
C42: B 設計変更・追加工事合計金額 | G42: =SUM(G21:G41) -> 0
G43: （※すべて税込）
C44: 預り金：固定資産税清算金、火災保険、登記料金等
C45: =IF(param!C45<>"",param!C45,"") | G45: =IF(param!E45<>"",param!E45,"") -> 0
C46: =IF(param!C46<>"",param!C46,"") | G46: =IF(param!E46<>"",param!E46,"") -> 0
C47: =IF(param!C47<>"",param!C47,"") | G47: =IF(param!E47<>"",param!E47,"") -> 0
C48: =IF(param!C48<>"",param!C48,"") | G48: =IF(param!E48<>"",param!E48,"") -> 0
C49: =IF(param!C49<>"",param!C49,"") | G49: =IF(param!E49<>"",param!E49,"") -> 0
...

Sheet param
C1: 値
A2: C2 | B2: 顧客コード | D2: =顧客コード
A3: C3 | B3: 契約コード | D3: =契約コード
A4: C4 | B4: 工事名 | D4: =工事名
A5: C5 | B5: 建築場所 | D5: =建上地_地名地番
A6: C6 | B6: 契約会社 | D6: =契約会社
A7: C7 | B7: 契約会社_住所 | D7: =契約会社_住所
A8: C8 | B8: 契約会社_電話番号 | D8: =契約会社_電話番号
A9: C9 | B9: 契約営業所
A10: C10 | B10: 担当営業
A12: C12 | B12: 振込先 | D12: =振込先
A13: C13 | B13: 請負金額_税込 | C13: 0 | D13: =請負金額_税込
A14: C14 | B14: 入金予定 | D14: 入金額 | E14: 0 | F14: 契約時予定入金額1 | G14: 0
A15: C15 | B15: 入金予定 | D15: 入金額 | E15: 0 | F15: 契約時予定入金額2 | G15: 0
A16: C16 | B16: 入金予定 | D16: 入金額 | E16: 0 | F16: 契約時予定入金額3 | G16: 0
A17: C17 | B17: 入金予定 | D17: 入金額 | E17: 0 | F17: 契約時予定入金額4 | G17: 0
A18: C18 | B18: 入金予定 | D18: 入金額 | E18: 0 | F18: 契約時予定入金額5 | G18: 0
A19: C19 | B19: 入金予定 | D19: 入金額 | E19: 0 | F19: 契約時予定入金額6 | G19: 0
A20: C20 | B20: 追加変更契約書金額No.00 | D20: 内容No.00 | F20: ご確認日No.00
A21: C21 | B21: 追加変更契約書金額No.01 | D21: 内容No.01 | F21: ご確認日No.01
A22: C22 | B22: 追加変更契約書金額No.02 | D22: 内容No.02 | F22: ご確認日No.02
A23: C23 | B23: 追加変更契約書金額No.03 | D23: 内容No.03 | F23: ご確認日No.03
A24: C24 | B24: 追加変更契約書金額No.04 | D24: 内容No.04 | F24: ご確認日No.04
A25: C25 | B25: 追加変更契約書金額No.05 | D25: 内容No.05 | F25: ご確認日No.05
A26: C26 | B26: 追加変更契約書金額No.06 | D26: 内容No.06 | F26: ご確認日No.06
A27: C27 | B27: 追加変更契約書金額No.07 | D27: 内容No.07 | F27: ご確認日No.07
A28: C28 | B28: 追加変更契約書金額No.08 | D28: 内容No.08 | F28: ご確認日No.08
A29: C29 | B29: 追加変更契約書金額No.09 | D29: 内容No.09 | F29: ご確認日No.09
A30: C30 | B30: 追加変更契約書金額No.10 | D30: 内容No.10 | F30: ご確認日No.10
A31: C31 | B31: 追加変更契約書金額No.11 | D31: 内容No.11 | F31: ご確認日No.11
... A40: C40 | B40: 追加変更契約書金額No.20 | D40: 内容No.20 | F40: ご確認日No.20
A42: C42 | B42: 実際の入金額 | C42: 0
A43: C43 | B43: 差異理由
C44: 内容 | E44: 金額
A45: C45 | B45: 預り金1 内容 | D45: 金額 | E45: 0
A46: C46 | B46: 預り金2 内容 | D46: 金額 | E46: 0
A47: C47 | B47: 預り金3 内容 | D47: 金額 | E47: 0
A48: C48 | B48: 預り金4 内容 | D48: 金額 | E48: 0
A49: C49 | B49: 預り金5 内容 | D49: 金額 | E49: 0
