Workbook

Sheet 銀行提出用総額
C2: ="顧客コード:"&param!C2 -> 顧客コード: | G2: =TODAY() -> 45194
C3: ="契約コード:"&param!C3 -> 契約コード:
C5: =param!C4 -> 0 | G5: =param!C6 -> 0
G6: =param!C7 -> 0
C7: 建築場所 | D7: =param!C5 -> 0 | G7: =param!C8 -> 0
B9: 最終残金 清算書
C11: 請負契約書 金額 | G11: =param!C13 -> 0
C12: 項目 | F12: 入金完了日 | G12: 入金額
C13: 契約時 | F13: =param!C14 -> 0 | G13: =param!E14 -> 0
F14: =param!C15 -> 0 | G14: =param!E15 -> 0
C15: 中間金１ | F15: =param!C16 -> 0 | G15: =param!E16 -> 0
F16: =param!C17 -> 0 | G16: =param!E17 -> 0
C17: 中間金２ | F17: =param!C18 -> 0 | G17: =param!E18 -> 0
F18: =param!C19 -> 0 | G18: =param!E19 -> 0
C19: A 請負契約残金額 | G19: =G11-SUM(G13:G18) -> 0
G20: （※すべて税込）
C22: 追加・変更契約書 金額
C23: NO1 | G23: =param!C21 -> 0
C24: NO2 | G24: =param!C22 -> 0
C25: NO3 | G25: =param!C23 -> 0
C26: NO4 | G26: =param!C24 -> 0
C27: NO5 | G27: =param!C25 -> 0
C28: NO6 | G28: =param!C26 -> 0
C29: NO7 | G29: =param!C27 -> 0
C30: NO8 | G30: =param!C28 -> 0
C31: NO9 | G31: =param!C29 -> 0
C32: NO10 | G32: =param!C30 -> 0
C33: NO11 | G33: =param!C31 -> 0
C34: NO12 | G34: =param!C32 -> 0
... C42: NO20 | G42: =param!C40 -> 0
C43: B 設計変更・追加工事合計金額 | G43: =SUM(G23:G42) -> 0
G44: （※すべて税込）
C45: 預り金：固定資産税清算金、火災保険、登記料金等
C46: =param!C45 -> 0 | G46: =param!E45 -> 0
C47: =param!C46 -> 0 | G47: =param!E46 -> 0
C48: =param!C47 -> 0 | G48: =param!E47 -> 0
C49: =param!C48 -> 0 | G49: =param!E48 -> 0
C50: =param!C49 -> 0 | G50: =param!E49 -> 0
C51: C 預り金合計金額 | G51: =SUM(G46:G50) -> 0
C53: 最終残金 A ＋ B ＋ C ＝ | G53: =G19+G43+G51 -> 0
G54: （※すべて税込）
C56: 振込先
D57: =param!C12 -> 0
D58: =param!C6 -> 0
D61: ・最終残金ご入金については、お引き渡し日の前日までにお振込み手続きをお願いいたします。
D62: ・お振込手数料は当社にて負担させて頂きます。
G65: =param!C6 -> 0

Sheet param
C1: 値
A2: C2 | B2: 顧客コード | D2: =顧客コード
A3: C3 | B3: 契約コード | D3: =契約コード
A4: C4 | B4: 工事名 | D4: =工事名
A5: C5 | B5: 建築場所 | D5: =建上地_住居表示
A6: C6 | B6: 契約会社 | D6: =契約会社
A7: C7 | B7: 契約会社_住所 | D7: =契約会社_住所
A8: C8 | B8: 契約会社_電話番号 | D8: =契約会社_電話番号
A12: C12 | B12: 振込先 | D12: =振込先
A13: C13 | B13: 請負金額_税込 | D13: =請負金額_税込
A14: C14 | B14: 入金予定 | D14: 入金額
A15: C15 | B15: 入金予定 | D15: 入金額
A16: C16 | B16: 入金予定 | D16: 入金額
... A19: C19 | B19: 入金予定 | D19: 入金額
A21: C21 | B21: 追加変更契約書金額No.01
A22: C22 | B22: 追加変更契約書金額No.02
A23: C23 | B23: 追加変更契約書金額No.03
A24: C24 | B24: 追加変更契約書金額No.04
A25: C25 | B25: 追加変更契約書金額No.05
A26: C26 | B26: 追加変更契約書金額No.06
A27: C27 | B27: 追加変更契約書金額No.07
A28: C28 | B28: 追加変更契約書金額No.08
A29: C29 | B29: 追加変更契約書金額No.09
A30: C30 | B30: 追加変更契約書金額No.10
A31: C31 | B31: 追加変更契約書金額No.11
A32: C32 | B32: 追加変更契約書金額No.12
... A40: C40 | B40: 追加変更契約書金額No.20
C44: 内容 | E44: 金額
A45: C45 | B45: 預り金1 内容 | D45: 金額
A46: C46 | B46: 預り金2 内容 | D46: 金額
A47: C47 | B47: 預り金3 内容 | D47: 金額
A48: C48 | B48: 預り金4 内容 | D48: 金額
A49: C49 | B49: 預り金5 内容 | D49: 金額
