Workbook
Name コード: マスタ!$E$2:$E$27
Name 種別: マスタ!$B$2:$B$8

Sheet サンプル
C1: テーブル名: | M1: 作成者:
C2: 設置場所: | M2: 作成日:
B3: # | C3: 項目名 | D3: 種別 | E3: コード | F3: 一覧 | G3: 必須 | H3: ユニーク | I3: 備考 | L3: 種別 | M3: 内容 | N3: 追加オプション
B4: 0 | C4: タイトル | E4: =IF(テーブル16[[#This Row],[種別]]<>"",VLOOKUP(COUNTIF(D$4:D4,D4),マスタ!D:E,2,FALSE),"") | I4: 契約データ■[契約コード]■[邸名]■[担当営業] | L4: 分類 | M4: 単一行文字列 | N4: 短項目 or 長項目4。選択型。他テーブル連携など。
B5: 1 | C5: 契約情報 | D5: 見出し | E5: =IF(テーブル16[[#This Row],[種別]]<>"",VLOOKUP(COUNTIF(D$4:D5,D5),マスタ!D:E,2,FALSE),"") -> A | L5: 数値 | M5: 数字 | N5: 単位指定。形式(通常,通過,桁区切り)
B6: 2 | C6: 契約コード | D6: 分類 | E6: =IF(テーブル16[[#This Row],[種別]]<>"",VLOOKUP(COUNTIF(D$4:D6,D6),マスタ!D:E,2,FALSE),"") -> A | F6: ◯ | G6: ◯ | H6: ◯ | L6: 日付 | M6: 日付 | N6: 日付のみ or 日付+時間。初期日付など。
B7: 3 | C7: 顧客コード | D7: 分類 | E7: =IF(テーブル16[[#This Row],[種別]]<>"",VLOOKUP(COUNTIF(D$4:D7,D7),マスタ!D:E,2,FALSE),"") -> B | G7: ◯ | H7: ◯ | L7: 説明 | M7: 複数行文字列
B8: 4 | C8: 契約種別 | D8: 分類 | E8: =IF(テーブル16[[#This Row],[種別]]<>"",VLOOKUP(COUNTIF(D$4:D8,D8),マスタ!D:E,2,FALSE),"") -> C | F8: ◯ | G8: ◯ | L8: チェック | M8: チェックボックス
B9: 5 | C9: 性能種別 | D9: 分類 | E9: =IF(テーブル16[[#This Row],[種別]]<>"",VLOOKUP(COUNTIF(D$4:D9,D9),マスタ!D:E,2,FALSE),"") -> D | F9: ◯ | G9: ◯ | L9: 添付ファイル | M9: 添付ファイル
B10: 6 | C10: ブランド | D10: 分類 | E10: =IF(テーブル16[[#This Row],[種別]]<>"",VLOOKUP(COUNTIF(D$4:D10,D10),マスタ!D:E,2,FALSE),"") -> E | F10: ◯ | G10: ◯ | L10: 見出し | M10: 見出し | N10: 区切り線。開閉指定あり。
B11: 7 | C11: 保健期間 | D11: 分類 | E11: =IF(テーブル16[[#This Row],[種別]]<>"",VLOOKUP(COUNTIF(D$4:D11,D11),マスタ!D:E,2,FALSE),"") -> F
B12: 8 | C12: 契約会社 | D12: 分類 | E12: =IF(テーブル16[[#This Row],[種別]]<>"",VLOOKUP(COUNTIF(D$4:D12,D12),マスタ!D:E,2,FALSE),"") -> G | F12: ◯ | G12: ◯
B13: 9 | C13: 施工会社 | D13: 分類 | E13: =IF(テーブル16[[#This Row],[種別]]<>"",VLOOKUP(COUNTIF(D$4:D13,D13),マスタ!D:E,2,FALSE),"") -> H | L13: ● テーブル名、設置先フォルダを指定
B14: 10 | C14: 基本情報 | D14: 見出し | E14: =IF(テーブル16[[#This Row],[種別]]<>"",VLOOKUP(COUNTIF(D$4:D14,D14),マスタ!D:E,2,FALSE),"") -> B | F14: ◯ | L14: ● #1以降の項目名、種別を設定
B15: 11 | C15: 邸名 | D15: 分類 | E15: =IF(テーブル16[[#This Row],[種別]]<>"",VLOOKUP(COUNTIF(D$4:D15,D15),マスタ!D:E,2,FALSE),"") -> I | F15: ◯ | L15: ● 必須、ユニーク項目などを設定
B16: 12 | C16: 建上地_郵便番号 | D16: 分類 | E16: =IF(テーブル16[[#This Row],[種別]]<>"",VLOOKUP(COUNTIF(D$4:D16,D16),マスタ!D:E,2,FALSE),"") -> J | L16: ● 備考欄を設定（以下参考）
B17: 13 | C17: 建上地 | D17: 分類 | E17: =IF(テーブル16[[#This Row],[種別]]<>"",VLOOKUP(COUNTIF(D$4:D17,D17),マスタ!D:E,2,FALSE),"") -> K | L17: ー 項目種別の追加オプション
B18: 14 | C18: 建上地_カナ | D18: 分類 | E18: =IF(テーブル16[[#This Row],[種別]]<>"",VLOOKUP(COUNTIF(D$4:D18,D18),マスタ!D:E,2,FALSE),"") -> L | L18: ー 作成・参照・編集に個別権限付与
B19: 15 | C19: 担当 | D19: 見出し | E19: =IF(テーブル16[[#This Row],[種別]]<>"",VLOOKUP(COUNTIF(D$4:D19,D19),マスタ!D:E,2,FALSE),"") -> C | F19: ◯ | L19: ー 特殊計算、別テーブル参照など
B20: 16 | C20: エリア | D20: 分類 | E20: =IF(テーブル16[[#This Row],[種別]]<>"",VLOOKUP(COUNTIF(D$4:D20,D20),マスタ!D:E,2,FALSE),"") -> M | L20: ● 「一覧」設定
B21: 17 | C21: 営業所 | D21: 分類 | E21: =IF(テーブル16[[#This Row],[種別]]<>"",VLOOKUP(COUNTIF(D$4:D21,D21),マスタ!D:E,2,FALSE),"") -> N | F21: ◯ | L21: ー ◯指定項目を一覧画面に表示
B22: 18 | C22: 担当営業 | D22: 分類 | E22: =IF(テーブル16[[#This Row],[種別]]<>"",VLOOKUP(COUNTIF(D$4:D22,D22),マスタ!D:E,2,FALSE),"") -> O
B23: 19 | C23: 担当設計 | D23: 分類 | E23: =IF(テーブル16[[#This Row],[種別]]<>"",VLOOKUP(COUNTIF(D$4:D23,D23),マスタ!D:E,2,FALSE),"") -> P
B24: 20 | C24: 担当IC | D24: 分類 | E24: =IF(テーブル16[[#This Row],[種別]]<>"",VLOOKUP(COUNTIF(D$4:D24,D24),マスタ!D:E,2,FALSE),"") -> Q
B25: 21 | C25: 担当監督 | D25: 分類 | E25: =IF(テーブル16[[#This Row],[種別]]<>"",VLOOKUP(COUNTIF(D$4:D25,D25),マスタ!D:E,2,FALSE),"") -> R
B26: 22 | C26: 契約日 | D26: 日付 | E26: =IF(テーブル16[[#This Row],[種別]]<>"",VLOOKUP(COUNTIF(D$4:D26,D26),マスタ!D:E,2,FALSE),"") -> A | F26: ◯ | G26: ◯
B27: 23 | C27: 設計契約有無 | D27: 見出し | E27: =IF(テーブル16[[#This Row],[種別]]<>"",VLOOKUP(COUNTIF(D$4:D27,D27),マスタ!D:E,2,FALSE),"") -> D
B28: 24 | C28: 内容 | D28: 説明 | E28: =IF(テーブル16[[#This Row],[種別]]<>"",VLOOKUP(COUNTIF(D$4:D28,D28),マスタ!D:E,2,FALSE),"") -> A
B29: 25 | D29: 分類 | E29: =IF(テーブル16[[#This Row],[種別]]<>"",VLOOKUP(COUNTIF(D$4:D29,D29),マスタ!D:E,2,FALSE),"") -> S
B30: 26 | D30: 分類 | E30: =IF(テーブル16[[#This Row],[種別]]<>"",VLOOKUP(COUNTIF(D$4:D30,D30),マスタ!D:E,2,FALSE),"") -> T
B31: 27 | D31: 分類 | E31: =IF(テーブル16[[#This Row],[種別]]<>"",VLOOKUP(COUNTIF(D$4:D31,D31),マスタ!D:E,2,FALSE),"") -> U
B32: 28 | D32: 分類 | E32: =IF(テーブル16[[#This Row],[種別]]<>"",VLOOKUP(COUNTIF(D$4:D32,D32),マスタ!D:E,2,FALSE),"") -> V
B33: 29 | D33: 分類 | E33: =IF(テーブル16[[#This Row],[種別]]<>"",VLOOKUP(COUNTIF(D$4:D33,D33),マスタ!D:E,2,FALSE),"") -> W
B34: 30 | D34: 分類 | E34: =IF(テーブル16[[#This Row],[種別]]<>"",VLOOKUP(COUNTIF(D$4:D34,D34),マスタ!D:E,2,FALSE),"") -> X
B35: 31 | D35: 分類 | E35: =IF(テーブル16[[#This Row],[種別]]<>"",VLOOKUP(COUNTIF(D$4:D35,D35),マスタ!D:E,2,FALSE),"") -> Y
B36: 32 | D36: 分類 | E36: =IF(テーブル16[[#This Row],[種別]]<>"",VLOOKUP(COUNTIF(D$4:D36,D36),マスタ!D:E,2,FALSE),"") -> Z
B37: 33 | D37: 分類 | E37: =IF(テーブル16[[#This Row],[種別]]<>"",VLOOKUP(COUNTIF(D$4:D37,D37),マスタ!D:E,2,FALSE),"") -> 1
B38: 34 | D38: 分類 | E38: =IF(テーブル16[[#This Row],[種別]]<>"",VLOOKUP(COUNTIF(D$4:D38,D38),マスタ!D:E,2,FALSE),"") -> 2
B39: 35 | D39: 分類 | E39: =IF(テーブル16[[#This Row],[種別]]<>"",VLOOKUP(COUNTIF(D$4:D39,D39),マスタ!D:E,2,FALSE),"") -> 3
B40: 36 | D40: 分類 | E40: =IF(テーブル16[[#This Row],[種別]]<>"",VLOOKUP(COUNTIF(D$4:D40,D40),マスタ!D:E,2,FALSE),"") -> 4
...

Sheet 健康診断
C1: テーブル名: | D1: 健康診断 | M1: 作成者:
C2: 設置場所: | D2: 総務フォルダ（閲覧権限は総務のみ） | M2: 作成日:
B3: # | C3: 項目名 | D3: 種別 | E3: コード | F3: 一覧 | G3: 必須 | H3: ユニーク | I3: 備考 | L3: 種別 | M3: 内容 | N3: 追加オプション
B4: 0 | C4: タイトル | E4: =IF(テーブル1[[#This Row],[種別]]<>"",VLOOKUP(COUNTIF(D$4:D4,D4),マスタ!D:E,2,FALSE),"") | L4: 分類 | M4: 単一行文字列 | N4: 短項目 or 長項目4。選択型。他テーブル連携など。
B5: 1 | C5: 社員情報 | D5: 見出し | E5: =IF(テーブル1[[#This Row],[種別]]<>"",VLOOKUP(COUNTIF(D$4:D5,D5),マスタ!D:E,2,FALSE),"") -> A | L5: 数値 | M5: 数字 | N5: 単位指定。形式(通常,通過,桁区切り)
B6: 2 | C6: 所属会社 | D6: 分類 | E6: =IF(テーブル1[[#This Row],[種別]]<>"",VLOOKUP(COUNTIF(D$4:D6,D6),マスタ!D:E,2,FALSE),"") -> A | F6: ◯ | G6: ◯ | I6: 会社の自動照合 | L6: 日付 | M6: 日付 | N6: 日付のみ or 日付+時間。初期日付など。
B7: 3 | C7: 社員番号 | D7: 分類 | E7: =IF(テーブル1[[#This Row],[種別]]<>"",VLOOKUP(COUNTIF(D$4:D7,D7),マスタ!D:E,2,FALSE),"") -> B | G7: ◯ | L7: 説明 | M7: 複数行文字列
B8: 4 | C8: 名前 | D8: 分類 | E8: =IF(テーブル1[[#This Row],[種別]]<>"",VLOOKUP(COUNTIF(D$4:D8,D8),マスタ!D:E,2,FALSE),"") -> C | F8: ◯ | G8: ◯ | H8: ◯ | L8: チェック | M8: チェックボックス
B9: 5 | C9: フリガナ | D9: 分類 | E9: =IF(テーブル1[[#This Row],[種別]]<>"",VLOOKUP(COUNTIF(D$4:D9,D9),マスタ!D:E,2,FALSE),"") -> D | G9: ◯ | L9: 添付ファイル | M9: 添付ファイル
B10: 6 | C10: 性別 | D10: 分類 | E10: =IF(テーブル1[[#This Row],[種別]]<>"",VLOOKUP(COUNTIF(D$4:D10,D10),マスタ!D:E,2,FALSE),"") -> E | L10: 見出し | M10: 見出し | N10: 区切り線。開閉指定あり。
B11: 7 | C11: 生年月日 | D11: 分類 | E11: =IF(テーブル1[[#This Row],[種別]]<>"",VLOOKUP(COUNTIF(D$4:D11,D11),マスタ!D:E,2,FALSE),"") -> F | F11: ◯ | G11: ◯
B12: 8 | C12: 年齢 | D12: 分類 | E12: =IF(テーブル1[[#This Row],[種別]]<>"",VLOOKUP(COUNTIF(D$4:D12,D12),マスタ!D:E,2,FALSE),"") -> G | G12: ◯ | I12: 生年月日から自動計算（満年齢）
B13: 9 | C13: エリア | D13: 分類 | I13: 西東京/愛知/静岡/君津/熊本/第一
B14: 10 | C14: 健康診断情報 | D14: 見出し | E14: =IF(テーブル1[[#This Row],[種別]]<>"",VLOOKUP(COUNTIF(D$4:D14,D14),マスタ!D:E,2,FALSE),"") -> B | L14: ● テーブル名、設置先フォルダを指定
B15: 11 | C15: 保険種類 | D15: 分類 | E15: =IF(テーブル1[[#This Row],[種別]]<>"",VLOOKUP(COUNTIF(D$4:D15,D15),マスタ!D:E,2,FALSE),"") -> I | F15: ◯ | I15: 東京土建/協会けんぽ | L15: ● #1以降の項目名、種別を設定
B16: 12 | C16: 保険証番号 | D16: 分類 | E16: =IF(テーブル1[[#This Row],[種別]]<>"",VLOOKUP(COUNTIF(D$4:D16,D16),マスタ!D:E,2,FALSE),"") -> J | L16: ● 必須、ユニーク項目などを設定
B17: 13 | C17: 検査機関 | D17: 分類 | E17: =IF(テーブル1[[#This Row],[種別]]<>"",VLOOKUP(COUNTIF(D$4:D17,D17),マスタ!D:E,2,FALSE),"") -> K | F17: ◯ | I17: 別ページで病院情報入れて選択にしたい | L17: ● 備考欄を設定（以下参考）
B18: 14 | C18: コース | D18: 分類 | E18: =IF(テーブル1[[#This Row],[種別]]<>"",VLOOKUP(COUNTIF(D$4:D18,D18),マスタ!D:E,2,FALSE),"") -> L | F18: ◯ | I18: 一般検診/節目検診/人間ドック | L18: ー 項目種別の追加オプション
B19: 15 | C19: バリウム検査 | D19: 分類 | E19: =IF(テーブル1[[#This Row],[種別]]<>"",VLOOKUP(COUNTIF(D$4:D19,D19),マスタ!D:E,2,FALSE),"") -> M | F19: ◯ | I19: 胃カメラ/バリウム/受けない（35歳以上会社負担、胃カメラに変更の場合は差額自腹） | L19: ー 作成・参照・編集に個別権限付与
B20: 16 | C20: 追加オプション | D20: 分類 | E20: =IF(テーブル1[[#This Row],[種別]]<>"",VLOOKUP(COUNTIF(D$4:D20,D20),マスタ!D:E,2,FALSE),"") -> N | F20: ◯ | I20: 有り/なし | L20: ー 特殊計算、別テーブル参照など
B21: 17 | C21: オプション追加内容 | D21: 分類 | E21: =IF(テーブル1[[#This Row],[種別]]<>"",VLOOKUP(COUNTIF(D$4:D21,D21),マスタ!D:E,2,FALSE),"") -> O | F21: ◯ | I21: 従業員に受けたいか確認したい（自腹で窓口清算あることも一緒に伝える） | L21: ● 「一覧」設定
B22: 18 | C22: 検査日 | D22: 日付 | E22: =IF(テーブル1[[#This Row],[種別]]<>"",VLOOKUP(COUNTIF(D$4:D22,D22),マスタ!D:E,2,FALSE),"") -> A | F22: ◯ | I22: 検査日と検査時間は一緒に一覧に見せたい | L22: ー ◯指定項目を一覧画面に表示
B23: 19 | C23: 検査時間 | D23: 分類 | E23: =IF(テーブル1[[#This Row],[種別]]<>"",VLOOKUP(COUNTIF(D$4:D23,D23),マスタ!D:E,2,FALSE),"") -> P | I23: ※日付と時間セットにできるならそちらで
B24: 20 | C24: その他 | D24: 分類 | E24: =IF(テーブル1[[#This Row],[種別]]<>"",VLOOKUP(COUNTIF(D$4:D24,D24),マスタ!D:E,2,FALSE),"") -> Q | I24: 備考
B25: 21 | E25: =IF(テーブル1[[#This Row],[種別]]<>"",VLOOKUP(COUNTIF(D$4:D26,D26),マスタ!D:E,2,FALSE),"")
B26: 22 | C26: 産業医情報 | D26: 見出し | E26: =IF(テーブル1[[#This Row],[種別]]<>"",VLOOKUP(COUNTIF(D$4:D27,D27),マスタ!D:E,2,FALSE),"") -> R
B27: 23 | C27: 状況 | D27: 分類 | E27: =IF(テーブル1[[#This Row],[種別]]<>"",VLOOKUP(COUNTIF(D$4:D28,D28),マスタ!D:E,2,FALSE),"") -> S | F27: ◯ | I27: 就業判定 完了/確認中
B28: 24 | C28: 検査結果 | D28: 分類 | E28: =IF(テーブル1[[#This Row],[種別]]<>"",VLOOKUP(COUNTIF(D$4:D29,D29),マスタ!D:E,2,FALSE),"") -> T | F28: ◯ | I28: A/B/C/D/E
B29: 25 | C29: 就業判定 | D29: 分類 | E29: =IF(テーブル1[[#This Row],[種別]]<>"",VLOOKUP(COUNTIF(D$4:D30,D30),マスタ!D:E,2,FALSE),"") -> A | F29: ◯ | I29: 可/不可 | L29: 状況 | M29: 申込中
B30: 26 | C30: 再検査連絡 | D30: チェック | E30: =IF(テーブル1[[#This Row],[種別]]<>"",VLOOKUP(COUNTIF(D$4:D31,D31),マスタ!D:E,2,FALSE),"") -> U | M30: 日程連絡済み
B31: 27 | C31: 再検査受けたか | D31: 分類 | E31: =IF(テーブル1[[#This Row],[種別]]<>"",VLOOKUP(COUNTIF(D$4:D32,D32),マスタ!D:E,2,FALSE),"") -> V | I31: 未受診/受信済 | M31: 受診済み
B32: 28 | C32: 再検査判定 | D32: 分類 | E32: =IF(テーブル1[[#This Row],[種別]]<>"",VLOOKUP(COUNTIF(D$4:D33,D33),マスタ!D:E,2,FALSE),"") -> A | M32: 判定待ち
B33: 29 | C33: PDF入れる | D33: 添付ファイル | E33: =IF(テーブル1[[#This Row],[種別]]<>"",VLOOKUP(COUNTIF(D$4:D34,D34),マスタ!D:E,2,FALSE),"") -> B | M33: 完了
B34: 30 | C34: 再検査日時 | D34: 日付 | E34: =IF(テーブル1[[#This Row],[種別]]<>"",VLOOKUP(COUNTIF(D$4:D35,D35),マスタ!D:E,2,FALSE),"") -> D | I34: LINEよ返っててきたら自動反映（再検査連絡の上に入れる） | M34: 対象外
B35: 31 | C35: ストレスチェック | D35: 見出し | E35: =IF(テーブル1[[#This Row],[種別]]<>"",VLOOKUP(COUNTIF(D$4:D36,D36),マスタ!D:E,2,FALSE),"") -> B
B36: 32 | C36: SC受診済 | D36: チェック | E36: =IF(テーブル1[[#This Row],[種別]]<>"",VLOOKUP(COUNTIF(D$4:D37,D37),マスタ!D:E,2,FALSE),"") -> W | M36: 100 | N36: 登録
B37: 33 | C37: SC判定 | D37: 分類 | E37: =IF(テーブル1[[#This Row],[種別]]<>"",VLOOKUP(COUNTIF(D$4:D38,D38),マスタ!D:E,2,FALSE),"") -> #N/A | I37: A/B/C/D/E | M37: 200 | N37: 日程通知済み
B38: 34 | E38: =IF(テーブル1[[#This Row],[種別]]<>"",VLOOKUP(COUNTIF(D$4:D39,D39),マスタ!D:E,2,FALSE),"") | M38: 210 | N38: 日程確定
B39: 35 | C39: 清算 | D39: 見出し | E39: =IF(テーブル1[[#This Row],[種別]]<>"",VLOOKUP(COUNTIF(D$4:D40,D40),マスタ!D:E,2,FALSE),"") -> A | M39: 300 | N39: 受診済
B40: 36 | C40: 窓口清算予定 | D40: 数値 | E40: =IF(テーブル1[[#This Row],[種別]]<>"",VLOOKUP(COUNTIF(D$4:D41,D41),マスタ!D:E,2,FALSE),"") -> B | M40: 400 | N40: 診断書保存
...

Sheet LINE自動送信
A1: LINE自動送信
A3: ①受診日のお知らせ | E3: →送ったらLINE送信済みに状況変更
A4: 医療機関
A5: 日時 | H5: クロード
A6: オプション内容
A7: 自己負担金額
A9: 変更がありましたらこちらのLINEに連絡ください
A12: ②受診日アラート連絡
A13: 受診日が近づきました！
A14: 受診のお忘れないようにお気を付けください。
A15: ☆東京土建の人のみメッセージ追加
A16: 資格確認証を必ずご持参ください。
A18: ③受診日当日 | E18: →受診済みのボタン押されたら状況を受診済みに変更
A19: 受診できましたでしょうか
A21: 受診済み | B21: 未受診 | C21: ※ボタンで回答
A23: 診断結果が届きましたら、PDFを取りこちらのトークにお送りください。」
A26: ④再提出依頼
A27: 診断結果をお送りいただきましたが、画像での送信でしたので、PDFで再度お送り頂きますようおねがいいたします。
A29: ⑤再検査通知 | E29: →再検査通知送ったら「再検査連絡」に☑いれる
A30: 再検査（ｃ以上）必要な人に送る
A31: ■健康診断の再検査について_
A33: 健康診断の結果におきまして、
A34: 再検査が必要と記載があった方へご連絡しております。
A36: 再検査を受けられましたら下記へご入力いただき、
A37: こちらに返信くださいますようお願い致します。
A39: ・再検査代は自己負担です
A40: ・医師の診断書等の添付は不要です
A42: よろしくお願いいたします。
A44: ・・・・・・・・・・・・・・・・・・・・・・・・・・・・・・・・・・
A46: 【再検査結果報告書】
A47: ※労働基準監督署より指導がございましたので、
... A54: d.就労の可否 ：
A56: ⑥再検査受診日当日 | D56: →再検査受診済み
A57: 受診したかのボタン
A59: 受診済 | B59: 未受診

Sheet 医療機関
C1: テーブル名: | D1: 受診病院一覧 | M1: 作成者:
C2: 設置場所: | D2: 総務 | M2: 作成日:
B3: # | C3: 項目名 | D3: 種別 | E3: コード | F3: 一覧 | G3: 必須 | H3: ユニーク | I3: 備考 | L3: 種別 | M3: 内容 | N3: 追加オプション
B4: 0 | C4: タイトル | E4: =IF(テーブル164[[#This Row],[種別]]<>"",VLOOKUP(COUNTIF(D$4:D4,D4),マスタ!D:E,2,FALSE),"") | L4: 分類 | M4: 単一行文字列 | N4: 短項目 or 長項目4。選択型。他テーブル連携など。
B5: 1 | C5: 病院リスト | D5: 見出し | E5: =IF(テーブル164[[#This Row],[種別]]<>"",VLOOKUP(COUNTIF(D$4:D5,D5),マスタ!D:E,2,FALSE),"") -> A | L5: 数値 | M5: 数字 | N5: 単位指定。形式(通常,通過,桁区切り)
B6: 2 | C6: エリア | D6: 分類 | E6: =IF(テーブル164[[#This Row],[種別]]<>"",VLOOKUP(COUNTIF(D$4:D6,D6),マスタ!D:E,2,FALSE),"") -> A | F6: ◯ | G6: ◯ | I6: 東京/愛知/熊本/静岡/相模原 | L6: 日付 | M6: 日付 | N6: 日付のみ or 日付+時間。初期日付など。
B7: 3 | C7: 病院名 | D7: 分類 | E7: =IF(テーブル164[[#This Row],[種別]]<>"",VLOOKUP(COUNTIF(D$4:D7,D7),マスタ!D:E,2,FALSE),"") -> B | F7: ◯ | G7: ◯ | L7: 説明 | M7: 複数行文字列
B8: 4 | C8: 住所 | D8: 分類 | E8: =IF(テーブル164[[#This Row],[種別]]<>"",VLOOKUP(COUNTIF(D$4:D8,D8),マスタ!D:E,2,FALSE),"") -> C | F8: ◯ | G8: ◯ | L8: チェック | M8: チェックボックス
B9: 5 | C9: 電話番号 | D9: 分類 | E9: =IF(テーブル164[[#This Row],[種別]]<>"",VLOOKUP(COUNTIF(D$4:D9,D9),マスタ!D:E,2,FALSE),"") -> D | F9: ◯ | G9: ◯ | L9: 添付ファイル | M9: 添付ファイル
B10: 6 | C10: FAX番号 | D10: 分類 | E10: =IF(テーブル164[[#This Row],[種別]]<>"",VLOOKUP(COUNTIF(D$4:D10,D10),マスタ!D:E,2,FALSE),"") -> E | F10: ◯ | G10: ◯ | L10: 見出し | M10: 見出し | N10: 区切り線。開閉指定あり。
B11: 7 | C11: 担当者 | D11: 分類 | E11: =IF(テーブル164[[#This Row],[種別]]<>"",VLOOKUP(COUNTIF(D$4:D11,D11),マスタ!D:E,2,FALSE),"") -> F | F11: ◯
B12: 8 | C12: 備考 | D12: 分類 | E12: =IF(テーブル164[[#This Row],[種別]]<>"",VLOOKUP(COUNTIF(D$4:D12,D12),マスタ!D:E,2,FALSE),"") -> G
B13: 9 | C13: オプション添付 | D13: 添付ファイル | E13: =IF(テーブル164[[#This Row],[種別]]<>"",VLOOKUP(COUNTIF(D$4:D13,D13),マスタ!D:E,2,FALSE),"") -> A | L13: ● テーブル名、設置先フォルダを指定
B14: 10 | D14: 見出し | E14: =IF(テーブル164[[#This Row],[種別]]<>"",VLOOKUP(COUNTIF(D$4:D14,D14),マスタ!D:E,2,FALSE),"") -> B | F14: ◯ | L14: ● #1以降の項目名、種別を設定
B15: 11 | D15: 分類 | E15: =IF(テーブル164[[#This Row],[種別]]<>"",VLOOKUP(COUNTIF(D$4:D15,D15),マスタ!D:E,2,FALSE),"") -> H | F15: ◯ | L15: ● 必須、ユニーク項目などを設定
B16: 12 | D16: 分類 | E16: =IF(テーブル164[[#This Row],[種別]]<>"",VLOOKUP(COUNTIF(D$4:D16,D16),マスタ!D:E,2,FALSE),"") -> I | L16: ● 備考欄を設定（以下参考）
B17: 13 | D17: 分類 | E17: =IF(テーブル164[[#This Row],[種別]]<>"",VLOOKUP(COUNTIF(D$4:D17,D17),マスタ!D:E,2,FALSE),"") -> J | L17: ー 項目種別の追加オプション
B18: 14 | D18: 分類 | E18: =IF(テーブル164[[#This Row],[種別]]<>"",VLOOKUP(COUNTIF(D$4:D18,D18),マスタ!D:E,2,FALSE),"") -> K | L18: ー 作成・参照・編集に個別権限付与
B19: 15 | D19: 見出し | E19: =IF(テーブル164[[#This Row],[種別]]<>"",VLOOKUP(COUNTIF(D$4:D19,D19),マスタ!D:E,2,FALSE),"") -> C | F19: ◯ | L19: ー 特殊計算、別テーブル参照など
B20: 16 | D20: 分類 | E20: =IF(テーブル164[[#This Row],[種別]]<>"",VLOOKUP(COUNTIF(D$4:D20,D20),マスタ!D:E,2,FALSE),"") -> L | L20: ● 「一覧」設定
B21: 17 | D21: 分類 | E21: =IF(テーブル164[[#This Row],[種別]]<>"",VLOOKUP(COUNTIF(D$4:D21,D21),マスタ!D:E,2,FALSE),"") -> M | F21: ◯ | L21: ー ◯指定項目を一覧画面に表示
B22: 18 | D22: 分類 | E22: =IF(テーブル164[[#This Row],[種別]]<>"",VLOOKUP(COUNTIF(D$4:D22,D22),マスタ!D:E,2,FALSE),"") -> N
B23: 19 | D23: 分類 | E23: =IF(テーブル164[[#This Row],[種別]]<>"",VLOOKUP(COUNTIF(D$4:D23,D23),マスタ!D:E,2,FALSE),"") -> O
B24: 20 | D24: 分類 | E24: =IF(テーブル164[[#This Row],[種別]]<>"",VLOOKUP(COUNTIF(D$4:D24,D24),マスタ!D:E,2,FALSE),"") -> P
B25: 21 | D25: 分類 | E25: =IF(テーブル164[[#This Row],[種別]]<>"",VLOOKUP(COUNTIF(D$4:D25,D25),マスタ!D:E,2,FALSE),"") -> Q
B26: 22 | D26: 日付 | E26: =IF(テーブル164[[#This Row],[種別]]<>"",VLOOKUP(COUNTIF(D$4:D26,D26),マスタ!D:E,2,FALSE),"") -> A | F26: ◯ | G26: ◯
B27: 23 | D27: 見出し | E27: =IF(テーブル164[[#This Row],[種別]]<>"",VLOOKUP(COUNTIF(D$4:D27,D27),マスタ!D:E,2,FALSE),"") -> D
B28: 24 | D28: 説明 | E28: =IF(テーブル164[[#This Row],[種別]]<>"",VLOOKUP(COUNTIF(D$4:D28,D28),マスタ!D:E,2,FALSE),"") -> A
B29: 25 | D29: 分類 | E29: =IF(テーブル164[[#This Row],[種別]]<>"",VLOOKUP(COUNTIF(D$4:D29,D29),マスタ!D:E,2,FALSE),"") -> R
B30: 26 | D30: 分類 | E30: =IF(テーブル164[[#This Row],[種別]]<>"",VLOOKUP(COUNTIF(D$4:D30,D30),マスタ!D:E,2,FALSE),"") -> S
B31: 27 | D31: 分類 | E31: =IF(テーブル164[[#This Row],[種別]]<>"",VLOOKUP(COUNTIF(D$4:D31,D31),マスタ!D:E,2,FALSE),"") -> T
B32: 28 | D32: 分類 | E32: =IF(テーブル164[[#This Row],[種別]]<>"",VLOOKUP(COUNTIF(D$4:D32,D32),マスタ!D:E,2,FALSE),"") -> U
B33: 29 | D33: 分類 | E33: =IF(テーブル164[[#This Row],[種別]]<>"",VLOOKUP(COUNTIF(D$4:D33,D33),マスタ!D:E,2,FALSE),"") -> V
B34: 30 | D34: 分類 | E34: =IF(テーブル164[[#This Row],[種別]]<>"",VLOOKUP(COUNTIF(D$4:D34,D34),マスタ!D:E,2,FALSE),"") -> W
B35: 31 | D35: 分類 | E35: =IF(テーブル164[[#This Row],[種別]]<>"",VLOOKUP(COUNTIF(D$4:D35,D35),マスタ!D:E,2,FALSE),"") -> X
B36: 32 | D36: 分類 | E36: =IF(テーブル164[[#This Row],[種別]]<>"",VLOOKUP(COUNTIF(D$4:D36,D36),マスタ!D:E,2,FALSE),"") -> Y
B37: 33 | D37: 分類 | E37: =IF(テーブル164[[#This Row],[種別]]<>"",VLOOKUP(COUNTIF(D$4:D37,D37),マスタ!D:E,2,FALSE),"") -> Z
B38: 34 | D38: 分類 | E38: =IF(テーブル164[[#This Row],[種別]]<>"",VLOOKUP(COUNTIF(D$4:D38,D38),マスタ!D:E,2,FALSE),"") -> 1
... B48: 44 | D48: 分類 | E48: =IF(テーブル164[[#This Row],[種別]]<>"",VLOOKUP(COUNTIF(D$4:D48,D48),マスタ!D:E,2,FALSE),"") -> 11
B49: 45 | E49: =IF(テーブル164[[#This Row],[種別]]<>"",VLOOKUP(COUNTIF(D$4:D49,D49),マスタ!D:E,2,FALSE),"")
...

Sheet マスタ
B1: 種別 | D1: # | E1: コード
B2: 分類 | D2: 1 | E2: A
B3: 数値 | D3: 2 | E3: B
B4: 日付 | D4: 3 | E4: C
B5: 説明 | D5: 4 | E5: D
B6: チェック | D6: 5 | E6: E
B7: 添付ファイル | D7: 6 | E7: F
B8: 見出し | D8: 7 | E8: G
D9: 8 | E9: H
D10: 9 | E10: I
B11: =6*26 -> 156 | D11: 10 | E11: J
D12: 11 | E12: K
D13: 12 | E13: L
D14: 13 | E14: M
D15: 14 | E15: N
D16: 15 | E16: O
D17: 16 | E17: P
D18: 17 | E18: Q
D19: 18 | E19: R
D20: 19 | E20: S
D21: 20 | E21: T
D22: 21 | E22: U
D23: 22 | E23: V
... D27: 26 | E27: Z
D28: 27 | E28: 1
D29: 28 | E29: 2
D30: 29 | E30: 3
D31: 30 | E31: 4
D32: 31 | E32: 5
D33: 32 | E33: 6
D34: 33 | E34: 7
D35: 34 | E35: 8
D36: 35 | E36: 9
D37: 36 | E37: 10
D38: 37 | E38: 11
D39: 38 | E39: 12
... D227: 226 | E227: 200
