Workbook

Sheet column
A1: 項目名 | B1: プロパティ名 | C1: 参照値

Sheet param
A1: ResultId | B1: 326394 | C1: 326348
A2: SiteId | B2: 310405 | C2: 310405
A3: ItemTitle | B3: 25B0012-TN-001-02■ネクスト 太郎 様■東京 nexthouse | C3: 25B0012-TN-001-01■ネクスト 太郎 様■東京 nexthouse
A4: Title
A5: Body
A6: Status | B6: 100 | C6: 100
A7: Manager | B7: 野木 健一郎 | C7: TEST_USER
A8: Owner | B8: 野木 健一郎 | C8: TEST_USER
A9: Locked | B9: FALSE | C9: FALSE
A10: Comments | B10: [] | C10: [{"CommentId":1,"CreatedTime":"2025-06-08T19:10:19.277643+09:00","Creator":704,"Body":"◆ 変更内容 ◆\n▷ 注記 : \n▷ 単価表・算出表 : \n▷ カタログ・NotePM : \n▷ 販売価格 : \n▷ 送料 : \n▷ 部材リスト : \n▷ Re②依頼票 : 25B0012-TN-001■ネクスト 太郎 様■東京 nexthouse\n"}]
A11: Creator | B11: 野木 健一郎 | C11: TEST_USER
A12: CreatedTime | B12: 2025/6/22 13:21:45 | C12: 2025/6/8 19:10:19
A13: Updator | B13: 野木 健一郎 | C13: TEST_USER
A14: UpdatedTime | B14: 2025/6/22 13:21:45 | C14: 2025/6/8 19:10:19
A15: Ver | B15: 1 | C15: 1
A16: ClassA | B16: 25B0012-TN | C16: 25B0012-TN
A17: ClassB | B17: 25B0012-TN-001 | C17: 25B0012-TN-001
A18: ClassC | B18: 25B0012-TN-001-02 | C18: 25B0012-TN-001-01
A19: ClassD
A20: ClassE | B20: TEST_USER | C20: TEST_USER
A21: ClassF
A22: ClassG
A23: ClassH
A24: ClassI | B24: 指定無し | C24: 指定無し
A25: ClassJ | B25: 0 | C25: 0
A26: ClassK
A27: ClassL | B27: 東京 nexthouse | C27: 東京 nexthouse
A28: ClassM | B28: T | C28: T
A29: ClassN | B29: N | C29: N
A30: ClassO | B30: 0 | C30: 0
A31: ClassP
A32: ClassQ
A33: ClassR
A34: ClassS
A35: ClassT | B35: ["TEST_USER"] | C35: []
A36: ClassU
A37: ClassV
A38: ClassW | B38: 326347 | C38: 326347
A39: ClassX | B39: 326346 | C39: 326346
A40: ClassY
...

Sheet template
A1: 社外秘 | F1: Ver.2412-01
A2: 積算問い合わせシート | E2: 管理番号 | F2: =C45 -> 25B0012-TN-001-02
A4: =C48 -> ネクスト 太郎 様 | D4: 邸 | E4: ブランド | F4: =C47 -> 東京 nexthouse
A5: 建上地 | B5: =C49 -> 東京都あきる野市五日市
A6: 依頼者 | B6: =C46 -> TEST_USER | E6: 営業担当 | F6: =C50 -> 小竹 忍
A8: 依頼内容
A9: DescriptionC
A20: 見積回答 | C20: 見積算出者 | D20: =C52 | F20: 算出回答日 | G20: =C51 -> 0
A21: DescriptionD
A40: 営業積算課 | F40: 出力日： | G40: =TODAY() -> 45856
A44: ResultId | B44: 326394 | C44: =MATCH(B44,param!1:1,0) -> 2
A45: 管理番号 | B45: ClassC | C45: {=INDIRECT("param!"&"R"&MATCH($B45,param!$A:$A,0)&"C"&$C$44,FALSE)} -> 25B0012-TN-001-02
A46: 依頼者 | B46: ClassE | C46: {=INDIRECT("param!"&"R"&MATCH($B46,param!$A:$A,0)&"C"&$C$44,FALSE)} -> TEST_USER
A47: エリアブランド | B47: ClassL | C47: {=INDIRECT("param!"&"R"&MATCH($B47,param!$A:$A,0)&"C"&$C$44,FALSE)} -> 東京 nexthouse
A48: 施主 | B48: Class001 | C48: {=INDIRECT("param!"&"R"&MATCH($B48,param!$A:$A,0)&"C"&$C$44,FALSE)} -> ネクスト 太郎 様
A49: 建上地 | B49: Class010 | C49: {=INDIRECT("param!"&"R"&MATCH($B49,param!$A:$A,0)&"C"&$C$44,FALSE)} -> 東京都あきる野市五日市
A50: 営業担当 | B50: Class022 | C50: {=INDIRECT("param!"&"R"&MATCH($B50,param!$A:$A,0)&"C"&$C$44,FALSE)} -> 小竹 忍
A51: 算出回答日 | B51: Date111 | C51: {=INDIRECT("param!"&"R"&MATCH($B51,param!$A:$A,0)&"C"&$C$44,FALSE)} -> 0
A52: 算出者 | B52: Class113 | C52: {=INDIRECT("param!"&"R"&MATCH($B52,param!$A:$A,0)&"C"&$C$44,FALSE)}
C53: {=INDIRECT("param!"&"R"&MATCH($B53,param!$A:$A,0)&"C"&$C$44,FALSE)} -> #N/A
A54: 算出・回答 | B54: Description111 | C54: {=INDIRECT("param!"&"R"&MATCH($B54,param!$A:$A,0)&"C"&$C$44,FALSE)}
C55: {=INDIRECT("param!"&"R"&MATCH($B55,param!$A:$A,0)&"C"&$C$44,FALSE)} -> #N/A
