Workbook

Sheet A建物工事見積書
B1: A 建物工事見積書 | G1: 店長 | H1: 担当 | I1: 担当
B3: =param!C2 -> 0
B6: 工事名 | D6: =param!C3 -> 0
G7: 作成日 | H7: =TODAY() -> 45050
B8: 建物工事金額合計 | D8: 30000000 | E8: 円 | G8: 有効期限 | H8: 作成日より30日以内
B11: 名称 | C11: 仕様 | H11: 工事見積金額
A12: 1 | B12: =param!C5 -> 0 | C12: =param!E5 -> 0 | G12: =IF(B12<>0,"一式","") | H12: =param!G5 -> 0
A13: 2 | B13: =param!C6 -> 0 | C13: =param!E6 -> 0 | G13: =IF(B13<>0,"一式","") | H13: =param!G6 -> 0
A14: 3 | B14: =param!C7 -> 0 | C14: =param!E7 -> 0 | G14: =IF(B14<>0,"一式","") | H14: =param!G7 -> 0
A15: 4 | B15: =param!C8 -> 0 | C15: =param!E8 -> 0 | G15: =IF(B15<>0,"一式","") | H15: =param!G8 -> 0
A16: 5 | B16: =param!C9 -> 0 | C16: =param!E9 -> 0 | G16: =IF(B16<>0,"一式","") | H16: =param!G9 -> 0
A17: 6 | B17: =param!C10 -> 0 | C17: =param!E10 -> 0 | G17: =IF(B17<>0,"一式","") | H17: =param!G10 -> 0
A18: 7 | B18: =param!C11 -> 0 | C18: =param!E11 -> 0 | G18: =IF(B18<>0,"一式","") | H18: =param!G11 -> 0
A19: 8 | B19: =param!C12 -> 0 | C19: =param!E12 -> 0 | G19: =IF(B19<>0,"一式","") | H19: =param!G12 -> 0
A20: 9 | B20: =param!C13 -> 0 | C20: =param!E13 -> 0 | G20: =IF(B20<>0,"一式","") | H20: =param!G13 -> 0
A21: 10 | B21: =param!C14 -> 0 | C21: =param!E14 -> 0 | G21: =IF(B21<>0,"一式","") | H21: =param!G14 -> 0
A22: 11 | B22: =param!C15 -> 0 | C22: =param!E15 -> 0 | G22: =IF(B22<>0,"一式","") | H22: =param!G15 -> 0
A23: 12 | B23: =param!C16 -> 0 | C23: =param!E16 -> 0 | G23: =IF(B23<>0,"一式","") | H23: =param!G16 -> 0
... A26: 15 | B26: =param!C19 -> 0 | C26: =param!E19 -> 0 | G26: =IF(B26<>0,"一式","") | H26: =param!G19 -> 0

Sheet param
B1: 項目 | C1: 値 | D1: 項目 | E1: 値 | F1: 項目 | G1: 値
B2: 注文者
B3: 工事名
B4: 建物工事金額合計
B5: 名称1 | D5: 仕様1 | F5: 工事見積金額1
B6: 名称2 | D6: 仕様2 | F6: 工事見積金額2
B7: 名称3 | D7: 仕様3 | F7: 工事見積金額3
B8: 名称4 | D8: 仕様4 | F8: 工事見積金額4
B9: 名称5 | D9: 仕様5 | F9: 工事見積金額5
B10: 名称6 | D10: 仕様6 | F10: 工事見積金額6
B11: 名称7 | D11: 仕様7 | F11: 工事見積金額7
B12: 名称8 | D12: 仕様8 | F12: 工事見積金額8
B13: 名称9 | D13: 仕様9 | F13: 工事見積金額9
B14: 名称10 | D14: 仕様10 | F14: 工事見積金額10
B15: 名称11 | D15: 仕様11 | F15: 工事見積金額11
B16: 名称12 | D16: 仕様12 | F16: 工事見積金額12
... B19: 名称15 | D19: 仕様15 | F19: 工事見積金額15
